BEGIN:VCALENDAR
VERSION:2.0
PRODID:-//FeedBack Music - ECPv6.11.2.1//NONSGML v1.0//EN
CALSCALE:GREGORIAN
METHOD:PUBLISH
X-ORIGINAL-URL:https://www.feedbackmusik.net
X-WR-CALDESC:Évènements pour FeedBack Music
REFRESH-INTERVAL;VALUE=DURATION:PT1H
X-Robots-Tag:noindex
X-PUBLISHED-TTL:PT1H
BEGIN:VTIMEZONE
TZID:Europe/Paris
BEGIN:DAYLIGHT
TZOFFSETFROM:+0100
TZOFFSETTO:+0200
TZNAME:CEST
DTSTART:20250330T010000
END:DAYLIGHT
BEGIN:STANDARD
TZOFFSETFROM:+0200
TZOFFSETTO:+0100
TZNAME:CET
DTSTART:20251026T010000
END:STANDARD
END:VTIMEZONE
BEGIN:VEVENT
DTSTART;TZID=Europe/Paris:20250308T190000
DTEND;TZID=Europe/Paris:20250308T230000
DTSTAMP:20260422T034015
CREATED:20240605T160726Z
LAST-MODIFIED:20240917T124544Z
UID:454998-1741460400-1741474800@www.feedbackmusik.net
SUMMARY:Freak Kitchen en concert à La Rayonne à Lyon-Villeurbanne le samedi 08 mars 2024
DESCRIPTION:Sounds Like Hell Productions\, en accord avec Base Productions\, présente :\n\nFREAK KITCHEN est enfin de retour sur scène ! Le groupe suédois de Heavy Metal Progressif enflammera La Rayonne samedi 8 mars 2025\, pour le plus grand bonheur du public lyonnais. Chaque concert de ce trio légendaire est une expérience unique\, remplie de spontanéité et d’improvisation. Venez vibrer au rythme de son énergie brute et de ses mélodies puissantes !\n——————————————————————–BILLETTERIETarif Normal : 27\,90€ – Tarif étudiant / Club SLH 2025 (uniquement sur Yurplan) : 26\,22€ – sur place : 29\,00€Mise en vente lundi 10 juin à 10h\nInfos et billetterie : https://slhproductions.fr/agenda/freakkitchenet sur les plateformes Fnac\, See Tickets\, Ticketmaster\, Dice\n——————————————————————–INFOS PRATIQUES\nLa Rayonne7 rue Henri Legay69100 Villeurbanne\n\nAccès :Métro : Métro A arrêt « Vaulx-en-Velin La Soie » à 500 mètres.Bus : C8\, C15\, 16\, 28\, 52\, 68\, 100 arrêt « Vaulx-en-Velin La Soie » à 500 mètres.Tram : Ligne T3 arrêt « Vaulx-en-Velin La Soie » à 500 mètres.Vélo’v : Stations « Vaulx-en-Velin La Soie » à 500 mètres.\nVestiaire tenu par la salleFoodtruck les soirs de concerts——————————————————————–\n► FREAK KITCHEN – Heavy Metal Progressif – Suède\nFREAK KITCHEN est de retour avec son dixième album\, « Everyone Gets Bloody » : onze morceaux intenses qui explorent des thèmes variés comme la polarisation\, la psychothérapie\, la mort d’un influenceur\, les experts\, les petits actes rebelles du quotidien\, la gravité et le deuil.\nSorti en mai 2024\, cet album se distingue par ses guitares à huit et neuf cordes\, ses percussions puissantes et sa basse énergique\, tout en gardant évidemment un accent prononcé sur la mélodie et la qualité de l’écriture. Produit et enregistré par Mattias IA Eklundh\, le chanteur et guitariste du groupe\, et mixé par IA et Jakob Herrmann aux Top Floor Studios de Göteborg\, « Everyone Gets Bloody » offre une expérience musicale unique.\nFREAK KITCHEN\, réputé pour ses performances scéniques énergiques et captivantes\, revient avec une détermination et un enthousiasme renouvelés.\nAprès avoir volontairement mis en pause toute activité scénique et médiatique ces dernières années\, le groupe est plus que jamais prêt à reconnecter avec son public. Un concert de FREAK KITCHEN\, c’est une interaction vibrante avec le public\, une dose de spontanéité et d’improvisation\, garantissant à chaque fois un moment mémorable en live.\nSite Internet : https://freakkitchen.com\nFacebook : https://www.facebook.com/freakkitchen\nInstagram : https://www.instagram.com/freak_kitchen\n“The Grief That Does Not Speak” : https://www.youtube.com/watch?v=SelzRY5Vc5U\n\n———————————————————————–Sounds Like Hell Productionshttps://slhproductions.frwww.facebook.com/slhproductions
URL:https://www.feedbackmusik.net/event/454998/
LOCATION:La Rayonne\, 7 rue Henri Legay\, Villeurbanne\, Rhône\, 69100\, France
CATEGORIES:Concerts
ATTACH;FMTTYPE=image/jpeg:https://www.feedbackmusik.net/wp-content/uploads/2024/06/Freak-Kitchen-bandeau.jpg
END:VEVENT
BEGIN:VEVENT
DTSTART;TZID=Europe/Paris:20250310T190000
DTEND;TZID=Europe/Paris:20250310T230000
DTSTAMP:20260422T034015
CREATED:20241108T141449Z
LAST-MODIFIED:20241108T141449Z
UID:582429-1741633200-1741647600@www.feedbackmusik.net
SUMMARY:1000Mods + Frenzee en concert au Club Transbo (Transbordeur) à Lyon-Villeurbanne le lundi 10 mars 2025
DESCRIPTION:Sounds Like Hell Productions\, en accord avec Garmonbozia\, présente :\n\n1000MODS\, comme la plupart des formations de Metal Stoner\, exprime tout son savoir-faire en live ! Ainsi\, avec plus de 200 concerts à son actif et fort d’une notoriété établie dès la sortie de son premier album Super Van Vacation en 2010\, le trio grec foulera la scène du Club Transbo le 10 mars 2025 ! Il sera accompagné de ses compatriotes de FRENZEE\, un trio explosif de punk féroce\, et nous présentera son nouvel album Cheat Death !\n\n\n► 1000MODS – Metal Stoner – Grèce\n1000MODS (Stoner Metal)\, formé en 2006 à Chiliomodi en Grèce\, rencontre un grand succès quatre ans plus tard\, dès la sortie de son premier album Super Van Vacation. Le groupe se produit ensuite dans de grands festivals tels que le Rockwave Festival\, le Desertfest et Lake on Fire. Après la sortie de son deuxième album Vultures en 2014 suivent deux tournées européennes nommée « Claws Over Europe » et une tournée en première partie de The Atomic Bitchwax en mai 2015. En 2016\, 1000MODS réitère l’expérience de la tournée européenne\, et accompagne MONKEY3 sur 45 dates. 1000MODS s’inspire de grands noms de la musique\, de Black Sabbath à MC5 en passant par KYUSS ou encore RED FANG.\nVendredi 8 novembre 2024\, 1000MODS dévoile son cinquième et nouvel album Cheat Death\, qui s’annonce comme son album le plus lourd à ce jour\, délivrant dix déclarations sonores puissantes remplies d’influences Metal et Punk\, tout en livrant quelques perles qui donnent des frissons en cours de route. Ce même jour\, le groupe annonce sa prochaine tournée européenne\, qui passera par Le Transbordeur de Lyon le 10 mars 2025 !\nSite Internet : https://www.1000mods.com\nFacebook : https://www.facebook.com/1000mods\nInstagram : https://www.instagram.com/1000mods\n“Götzen Hammer” :\nhttps://www.youtube.com/watch?v=BPHcOVmFXsI\n\n\n► FRENZEE – Punk Rock – Grèce\nFrenzee est un groupe punk féroce et énergique originaire de Melbourne\, en Australie\, mais élevé et basé sur l’île de Crète\, en Grèce. Composé de trois frères et sœurs\, élevés dans un foyer imprégné de tradition musicale et au milieu d’une riche tapisserie d’influences musicales – allant d’AC/DC et Nirvana à The Prodigy et Bikini Kill – leur son est explosif\, ce qui témoigne de leur passion profondément enracinée pour le genre. Frenzee enflamme la scène avec une énergie brute et une présence imposante\, déchirant chaque set avec une intensité implacable et un pur esprit punk.\nAprès le succès de leur EP éponyme\, Frenzee (2022)\, le groupe retourne en studio pour enregistrer son premier LP\, What’s Wrong With Me (2024)\, délivrant neuf brèves explosions de heavy punk rock – un album brut\, énergique et qui claque.\nSite Internet : https://frenzee.bandcamp.com/\nFacebook : https://www.facebook.com/frenzee.band/\nInstagram : https://www.instagram.com/frenzee.band/?hl=en\n“Live at Buduzi (Nasty Cut Sessions)” :\nhttps://www.youtube.com/watch?v=AqLnZIIUlyI
URL:https://www.feedbackmusik.net/event/1000mods-frenzee-en-concert-au-club-transbo-transbordeur-a-lyon-villeurbanne-le-lundi-10-mars-2025/
LOCATION:Club Tranbo\, 3 boulevard de la bataille de Stalingrad\, Villeurbanne\, Rhône\, 69100\, France
CATEGORIES:Concerts
ATTACH;FMTTYPE=image/jpeg:https://www.feedbackmusik.net/wp-content/uploads/2024/11/1000-Mods-bandeau.jpg
END:VEVENT
END:VCALENDAR