BEGIN:VCALENDAR
VERSION:2.0
PRODID:-//FeedBack Music - ECPv6.11.2.1//NONSGML v1.0//EN
CALSCALE:GREGORIAN
METHOD:PUBLISH
X-ORIGINAL-URL:https://www.feedbackmusik.net
X-WR-CALDESC:Évènements pour FeedBack Music
REFRESH-INTERVAL;VALUE=DURATION:PT1H
X-Robots-Tag:noindex
X-PUBLISHED-TTL:PT1H
BEGIN:VTIMEZONE
TZID:Europe/Paris
BEGIN:DAYLIGHT
TZOFFSETFROM:+0100
TZOFFSETTO:+0200
TZNAME:CEST
DTSTART:20250330T010000
END:DAYLIGHT
BEGIN:STANDARD
TZOFFSETFROM:+0200
TZOFFSETTO:+0100
TZNAME:CET
DTSTART:20251026T010000
END:STANDARD
END:VTIMEZONE
BEGIN:VEVENT
DTSTART;TZID=Europe/Paris:20251110T190000
DTEND;TZID=Europe/Paris:20251110T230000
DTSTAMP:20260421T160736
CREATED:20250303T201604Z
LAST-MODIFIED:20250303T201605Z
UID:649054-1762801200-1762815600@www.feedbackmusik.net
SUMMARY:Lionheart + Special Guest en concert à La Rayonne à Lyon-Villeurbanne le lundi 10 novembre 2025
DESCRIPTION:Mediatone\, Sounds Like Hell Productions et Rage Tour présentent : 𝗟𝗜𝗢𝗡𝗛𝗘𝗔𝗥𝗧 + 𝗩𝗘𝗥𝗬 𝗦𝗣𝗘𝗖𝗜𝗔𝗟 𝗚𝗨𝗘𝗦𝗧 en concert à La Rayonne le Lundi 10 novembre 2025 !\n\n𝗟𝗜𝗢𝗡𝗛𝗘𝗔𝗥𝗧 // 𝗨𝗦𝗔 – 𝗠𝗲𝘁𝗮𝗹 𝗛𝗮𝗿𝗱𝗰𝗼𝗿𝗲\nLes rois du hardcore heavy de la Bay Area\, LIONHEART ont explosé sur la scène en 2007 avec The Will To Survive\, inspiré par BLOOD FOR BLOOD\, HATEBREED et MADBALL. Enchaînant Built On Struggle (2010) et Undisputed (2012)\, ils ont tourné sans relâche. Après une courte pause\, ils reviennent en force en 2014 avec Welcome To The Westcoast\, classé n°1 sur iTunes et Google Play Metal.\nAprès des années de tournées acharnées à travers le monde\, LIONHEART revient avec son album le plus brutal à ce jour : Valley Of Death. Porté par une combinaison de hardcore métallique explosif et de groove West Coast percutant\, le chanteur Rob Watson livre un regard sans filtre sur une vie marquée par la souffrance\, la violence et une volonté inébranlable de survivre.\n www.youtube.com/@LionheartHC www.instagram.com/lionheartca/ www.facebook.com/lionheartca/\n\n▬▬ 𝗜𝗡𝗙𝗢𝗦 𝗣𝗥𝗔𝗧𝗜𝗤𝗨𝗘𝗦 ▬▬\nLundi 10 novembre 2025Début du concert : 19h (Ouverture des portes à 18h)La Rayonne – 7 Rue Henri Legay\, 69100 Villeurbanne\n\nBILLETTERIE : https://mediatone.net/evenements/lionheart-la-rayonne/\nTarif réduit** : 26 €* (demandeurs d’emploi\, bénéficiaires du RSA\, – 18 ans sur présentation d’un justificatif)Tarif prévente : 29 €*Tarif guichet : 32 €*+ frais de loc\n𝗣𝗮𝘀𝘀 𝗥𝗲́𝗴𝗶𝗼𝗻\, 𝗣𝗮𝘀𝘀 𝗖𝘂𝗹𝘁𝘂𝗿𝗲 𝗱𝗲 𝗹𝗮 𝗠𝗲́𝘁𝗿𝗼𝗽𝗼𝗹𝗲 𝗱𝗲 𝗟𝘆𝗼𝗻 𝗲𝘁 𝗖𝗮𝗿𝘁𝗲 𝗠𝗼𝗷𝗷𝗼  billetterie ouverte tous les mercredis de 14h à 18h au 25 rue des Capucins\, 69001𝗣𝗮𝘀𝘀 𝗖𝘂𝗹𝘁𝘂𝗿𝗲 𝗡𝗮𝘁𝗶𝗼𝗻𝗮𝗹  disponible sur l’application
URL:https://www.feedbackmusik.net/event/lionheart-special-guest-en-concert-a-la-rayonne-a-lyon-villeurbanne-le-lundi-10-novembre-2025/
LOCATION:La Rayonne\, 7 rue Henri Legay\, Villeurbanne\, Rhône\, 69100\, France
CATEGORIES:Concerts
ATTACH;FMTTYPE=image/jpeg:https://www.feedbackmusik.net/wp-content/uploads/2025/03/Lionheart-Bandeau.jpg
ORGANIZER;CN="Mediatone - Concerts %C3%A0 Lyon":MAILTO:info[@]mediatone.net
END:VEVENT
BEGIN:VEVENT
DTSTART;TZID=Europe/Paris:20251115T190000
DTEND;TZID=Europe/Paris:20251115T230000
DTSTAMP:20260421T160736
CREATED:20250604T001746Z
LAST-MODIFIED:20251010T124529Z
UID:707507-1763233200-1763247600@www.feedbackmusik.net
SUMMARY:ANNULATION // Slow Crush + Keep + Fall Of Messiah en concert à Ô Totem Live (Lyon-Rillieux) le samedi 15 novembre 2025
DESCRIPTION:– CONCERT ANNULE – \n\nSounds Like Hell Productions\, en accord avec Base Productions\, présente :\n\nDeux continents. Deux trajectoires. Une même quête : vous faire perdre pied. Sounds Like Hell Productions vous donne rendez-vous le 15 novembre à Ô Totem Live qui se transformera pour l’occasion en cathédrale du Shoegaze pour accueillir SLOW CRUSH et KEEP\, deux figures d’un genre qui n’a jamais aussi bien porté son nom.\nPréparez-vous à une immersion totale dans un océan de guitares brumeuses\, de voix éthérées et de nappes sonores. Une expérience entre tension vertigineuse et beauté suspendue.\nPour celles et ceux qui veulent se laisser happer et qui cherchent l’intensité\, la vraie !\n——————————————————————–\nBILLETTERIE :\nMise en vente des billets ce vendredi 6 juin à 10h\nTarifs : Normal : 27.30€ – Etudiant / – de 18 ans / Club SLH 2025 : 25.60€ – Sur place : 29€\nhttps://slhproductions.fr/agenda/slowcrush/\nhttps://ototemlive.com\nPlaces disponibles sur les réseaux Yurplan\, See Tickets\, Dice\, France Billet\, Ticketmaster et Pass Culture.\n——————————————————————–\nINFOS PRATIQUES :\nÔ Totem Live9bis avenue du Général Leclerc69140 Rillieux-la-Pape\nPas de vestiaireBilletterie et bar : les paiements en CB sont acceptés. La vente d’alcool au -18 ans est interdite.Attention : les mineurs de -16 ans doivent être accompagnés d’un majeur.\n\nACCÈS :En transports en commun : Bus C5 depuis Cordeliers\, arrêt MJC / CCN ou C2 depuis la Gare Part-Dieu\, arrêt George SandEn voiture : Depuis Rocade Est/A46 sortie 4  »Caluire/Rillieux ». Places de parking gratuites à proximité.\nEn savoir plus : https://ototemlive.com\n\n\n———————————————————————–\n► SLOW CRUSH – Shoegaze – Belgique\nSLOW CRUSH est un groupe qui se nourrit de l’évolution. Après Aurora\, son premier album acclamé par Stereogum comme « phénoménal » et « l’un des meilleurs albums de Shoegaze de tous les temps »\, le quatuor a tourné sans relâche\, construisant une fanbase mondiale attirée par des paysages sonores immersifs et tourbillonnants.\nLe deuxième album\, Hush\, les propulse plus haut encore\, avec des concerts à guichets fermés et une reconnaissance internationale. Pendant un certain temps\, SLOW CRUSH se concentre sur la vie en tournée\, mais les quatre ans qui séparent Hush et le dernier album apporte une nouvelle perspective et un renouveau créatif.\nPour l’enregistrer\, la chanteuse et bassiste Isa Holliday\, le guitariste Jelle Ronsmans et le batteur Frederik Meeuwis se rendent au Ranch à Southampton\, Royaume-Uni\, pour travailler avec le producteur Lewis Johns (Rolo Tomassi\, Svalbard\,…). Johns pousse le groupe au-delà de ses limites habituelles\, encourageant l’expérimentation et la spontanéité – des textures glitchy et des coups de caisse claire enregistrés dans la cuisine à l’ajout inattendu d’un saxophone sur le morceau “Covet”.\nCet esprit de transformation se retrouve tout au long du nouvel album. Sur le plan sonore\, il est plus lourd et plus étoffé\, opposant des voix rêveuses à des guitares grinçantes\, capturant une nouvelle intensité émotionnelle. Isa a creusé plus profondément que jamais dans ses paroles et ses performances vocales\, explorant les thèmes de l’épuisement émotionnel\, de la reconnexion et de la vie sur la route et en dehors.\nAu fond\, l’album reflète un désir de clarté et de vérité émotionnelle\, équilibrant la lourdeur et l’intimité. C’est un album sur le fait d’être attaché mais en apesanteur\, perdu mais à la recherche\, et par-dessus tout\, d’embrasser la musique comme un espace de calme\, de réflexion et de transcendance.\nIsa explique : « Nous voulons que les gens se sentent pris en charge par la musique\, qu’ils se laissent aller et qu’ils soient emmenés ailleurs\, dans une autre dimension\, même. Un endroit où ils peuvent simplement être présents. »\nSite Internet : https://www.slowcrush.org\nFacebook : https://www.facebook.com/slowcrushband/\nInstagram : https://www.instagram.com/slowcrushband\n“Thirst“ :\nhttps://www.youtube.com/watch?v=1ZyKKQRzrGw\n\n\n► KEEP – Shoegaze – Virginie\, États-Unis\nOriginaire de Richmond\, VA\, KEEP se forme en 2013. Le groupe est fortement influencé par The Cure\, The Smashing Pumpkins et Slowdive\, mais ces influences ne font qu’effleurer la surface. Dans une critique du deuxième album du groupe\, Happy In Here\, il est dit que « même avec ces comparaisons et toute la précision qu’elles pourraient avoir\, KEEP est un groupe qui n’a pas seulement tracé sa propre voie\, mais qui est devenu assez aguerri dans ce domaine. » Au fil des ans\, la musique de KEEP s’est étendue à un certain nombre de genres\, mais se range le plus souvent sous la bannière du Shoegaze. Indépendamment des distinctions spécifiques\, le groupe se situe fermement dans le réseau de la musique rock alternative. Audiotree a décrit avec justesse le son de KEEP comme « grandiose et majestueux »\, ajoutant qu’il est « enveloppé dans un brouillard de bruit lourd et dévorant ».\nKEEP est un groupe qui a fait ses preuves. Avec plus de dix ans d’expérience\, trois albums\, une multitude de maxis et d’innombrables tournées (aux Etats-Unis et à l’étranger) à son actif\, le quatuor commence tout juste à trouver son rythme de croisière. Almost Static sera un album déterminant\, car les nombreuses influences que le groupe a toujours affichées sont assemblées d’une manière plus homogène que jamais. De plus\, le groupe s’aventure sur de nouveaux territoires avec des titres comme Smile Down (Into Nothing)\, Bermuda et Almost Static.\nC’est un album conçu pour les longues heures passées dans la voiture\, ce qui se reflète fréquemment dans les paroles. Almost Static explore de nombreuses pensées qui peuvent traverser l’esprit d’une personne lors de ces longs voyages. C’est un disque entraînant et hymnique qui navigue dans les méandres d’un monde qui ne veut pas ralentir. C’est une bande-son qui permet de se précipiter de plus en plus loin dans l’oubli.\nLes sessions d’enregistrement de l’album ont été réparties entre Electrical Audio à Chicago et Earth Analog à Tolono\, Illinois. L’album a été produit et réalisé par Zac Montez (Whirr\, Cloakroom) qui s’est occupé des deux précédents albums de KEEP. Pour ce qui est de l’avenir\, le groupe prévoit de partir en tournée pour soutenir Almost Static. Cette tournée débutera par une série de dates en première partie de Turnover lors de la tournée du 10e anniversaire de Peripheral Vision.\nSite Internet : https://www.keep.band\nInstagram : https://www.instagram.com/keepva/\n“Bermuda“ :\nhttps://www.youtube.com/watch?v=yqLs6z36Rto\n\n► FALL OF MESSIAH – Screamo / Post-Rock – France\nOriginaire du Nord de la France et soutenu par le label Dancing On Sharks Records (Amber Daybreak)\, FALL OF MESSIAH est un ambitieux projet de 5 musiciens cherchant à mettre sur pied une musique à la croisée de l’indie\, du math-rock\, du rockin’core et du screamo. Le groupe a déjà partagé la scène avec La Dispute et Le Pré où je suis mort. How to conceive a bridge between circle constitue son premier effort\, suivi ensuite par une orientation plus Post-Rock et deux autres albums\, How To See Beyond Fields et Empty Colors.\nBandcamp : https://fallofmessiah.bandcamp.com/album/senicarne\nFacebook : https://www.facebook.com/fallofmessiah\nInstagram : https://www.instagram.com/fallofmessiah/\n“Vertes Vignes“ :\nhttps://www.youtube.com/watch?v=x2pgaLerQdg\n——————————————————————–\nSounds Like Hell Productions contact@slhproductions.frwww.facebook.com/slhproductions
URL:https://www.feedbackmusik.net/event/slow-crush-keep-fall-of-messiah-en-concert-a-o-totem-live-lyon-rillieux-le-samedi-15-novembre-2025/
LOCATION:Ô Totem Live\, 9 bis Avenue Général Leclerc\, Rillieux-la-Pape\, Rhône\, 69140\, France
CATEGORIES:Concerts
ATTACH;FMTTYPE=image/jpeg:https://www.feedbackmusik.net/wp-content/uploads/2025/06/Slow-Crush-Annulation.jpg
END:VEVENT
BEGIN:VEVENT
DTSTART;TZID=Europe/Paris:20251119T190000
DTEND;TZID=Europe/Paris:20251119T230000
DTSTAMP:20260421T160736
CREATED:20250724T140454Z
LAST-MODIFIED:20250724T140455Z
UID:748468-1763578800-1763593200@www.feedbackmusik.net
SUMMARY:Phil Campbell And The Bastard Sons (Celebrate 50 Years Of Motorhead)+Airstrike en concert à ö Totem Live\, Lyon-Rillieux\, le mercredi 19 novembre 2025
DESCRIPTION:  \nSounds Like Hell Productions\, en accord avec Garmonbozia\, présente :\n\nAttention : date UNIQUE en France ! Rendez-vous le mercredi 19 novembre à Ô Totem Live pour un nouveau concert lyonnais de PHIL CAMPBELL & THE BASTARD SONS\, cette fois accompagné des allemands d’AIRSTRIKE. Le groupe familial composé autour du guitariste emblématique célèbrera les 50 ans de MOTÖRHEAD avec un show exceptionnel. Reprises\, compositions originales\, et peut-être des surprises sont à prévoir !\n——————————————————————–\nBILLETTERIE\nLes places sont disponibles sur les réseaux Yurplan\, See Tickets\, Dice\, France Billet\, Ticketmaster et Pass Culture\nhttps://slhproductions.fr/…/philcampbellandthebastards…/\nhttps://ototemlive.com\nTarifs : Normal : 32.70€ – Réduit/Club SLH : 30.70€ – Sur place : 35€\n——————————————————————–\nINFOS PRATIQUES\nÔ Totem Live9bis avenue du Général Leclerc69140 Rillieux-la-Pape\nPas de vestiaire\nBilletterie et bar : les paiements en CB sont acceptés. La vente d’alcool au -18 ans est interdite.\nAttention : les mineurs de -16 ans doivent être accompagnés d’un majeur.\n\nACCÈS\nEn transports en commun : Bus C5 depuis Cordeliers\, arrêt MJC / CCN ou C2 depuis la Gare Part-Dieu\, arrêt George Sand\nEn voiture : Depuis Rocade Est/A46 sortie 4  »Caluire/Rillieux ».\nPlaces de parking gratuites à proximité.\nEn savoir plus : https://ototemlive.com\n———————————————————————–\n\n► PHIL CAMPBELL & THE BASTARD SONS – Hard Rock – Pays de Galles\nFormé à l’origine comme un projet parallèle autour des deux dernières années de Motörhead par Phil Campbell\, l’ancien guitariste de Motörhead depuis 32 ans\, le groupe décide de passer à la vitesse supérieure et révèle le nouveau nom de PHIL CAMPBELL AND THE BASTARD SONS lors du Wacken Open Air 2016. Un EP éponyme est présenté quelques mois plus tard. Dirigé par l’un des guitaristes les plus respectés du genre et complété par ses fils Todd\, Tyla et Dane\, le groupe émerge en 2017\, fort d’une énorme volonté\, d’une poignée de reprises de Motörhead et de nouvelles chansons qui crépitent de passion et d’arrogance. Obtenant une place prestigieuse en première partie de GUNS N’ ROSES lors de sa tournée des stades à l’été 2017\, les BASTARD SONS prennent officiellement leur envol.\nEn 2018\, lorsque le groupe dévoile son premier album\, The Age Of Absurdity\, cette entreprise de rock’n’roll honnête se transforme organiquement en une affaire assez importante. L’album est très bien accueilli par la critique et reçoit le trophée du « Meilleur premier album » lors de la cérémonie de remise des prix de Metal Hammer Allemagne en 2018. Deux ans plus tard\, enregistré pendant la pandémie par le guitariste Todd Campbell\, le deuxième album est juste le tonique dont les gens avaient besoin. Il s’appelle We’re The Bastards et il est plus grand\, meilleur et encore plus joyeux que son prédécesseur\, avec des entrées dans le top 40 des charts nationaux dans 4 pays !\nPeu après que PHIL CAMPBELL & THE BASTARD SONS ait annoncé au monde entier le recrutement de son nouveau chanteur Joel Peters en janvier 2022\, le groupe entre en studio dans le sud du Pays de Galles\, et commence à écrire et à enregistrer l’album la même année.\nAprès cela\, les Bastards entament leur saison de festivals la plus chargée à ce jour\, avec notamment des concerts dans des festivals majeurs tels que le Wacken Open Air\, le Hellfest\, le Graspop Metal Meeting et bien d’autres encore au cours de l’été 2023. Le groupe trouve ensuite le temps de se rassembler pour mettre la touche finale à son nouvel album\, Kings Of The Asylum.\nPhil Campbell déclare : « Ce fut une expérience formidable d’écrire cet album avec Joel et le reste de mes gars. Nous avons créé des riffs et des mélodies monstrueuses pour votre plus grand plaisir. Nous sommes impatients de jouer ces chansons dans nos villes préférées et de visiter de nouveaux endroits ! »\nJoel Peters ajoute : « J’ai pris beaucoup de plaisir à travailler sur cet album aux côtés de Phil et des garçons\, et j’en suis immensément fier ! J’ai hâte que tout le monde l’entende et que ces chansons soient jouées pour la première fois ! Nous avons là de véritables bangers ! »\nKings Of The Asylum reprend là où We’re The Bastards s’est arrêté : onze titres Heavy Rock percutants et authentiques\, y compris des singles marquants tels que l’hymne rock digne des plus grands stades “Strike The Match” et le tube au rythme effréné “Too Much Is Never Enough”. Il s’agit de la meilleure version de PHIL CAMPBELL AND THE BASTARD SONS : le groupe a perfectionné son Hard Rock intemporel et revigorant\, et est impatient de présenter ses nouveaux sons explosifs en concert cet automne… sur les scènes de toute l’Europe\, dont UNE DATE UNIQUE EN FRANCE\, à Lyon\, samedi 19 novembre !\nSite Internet : https://www.philcampbell.net\nFacebook : http://www.facebook.com/PhilCampbellATBS\n“Hammer and Dance” : https://www.youtube.com/watch?v=LgRtd1vpffI\n\n► AIRSTRIKE – Hard-Rock – Allemagne\nComposé d’un gang de quatre amis qui partagent une passion commune pour le rock’n’roll et la musique pleine d’énergie\, AIRSTRIKE se forme en 2017 en Allemagne. Le groupe se fait rapidement un nom dans sa région d’origine et montre très tôt ses talents lors de nombreux concerts.\nEn 2021\, le line up d’AIRSTRIKE connaît un changement suite à l’arrivée du frontman Julio Noriega\, venu compléter le trio. Depuis\, AIRSTRIKE a renforcé son identité musicale et veut monter sur les planches. Pour l’anecdote\, le talent de Julio avait déjà pu être admiré dans The Voice of Germany en 2022.\nAvec un premier album Red Born Reborn\, sorti en septembre 2023\, les musiciens posent leurs jalons. Leur deuxième album S*x Sells sortira avant qu’ils ne partent en octobre 2024 avec les rockers des hit-parades de Kissin’ Dynamite pour leur « Back With A Bang – Europe Tour ».\nEn tant que nouvelle valeur sûre du genre New Wave of Classic Rock\, AIRSTRIKE a le potentiel de se hisser au rang des plus grands. Des groupes similaires tels que Guns N’ Roses\, Aerosmith\, Rival Sons\, Greta Van Fleet ou Dirty Honey sont leurs modèles musicaux. Les fans de ces groupes ne doivent absolument pas manquer AIRSTRIKE !\nSite web : https://www.airstrike-rock.com/\nFacebook : https://www.facebook.com/air.strike.rock/\nInstagram : https://www.instagram.com/air.strike/\n“Promised Land“ :https://www.youtube.com/watch?v=sRyqo35A80g\n——————————————————————–——————————————————————–\nSounds Like Hell Productions\ncontact@slhproductions.frwww.facebook.com/slhproductions
URL:https://www.feedbackmusik.net/event/phil-campbell-and-the-bastard-sons-celebrate-50-years-of-motorheadairstrike-en-concert-a-o-totem-live-lyon-rillieux-le-mercredi-19-novembre-2025/
LOCATION:Ô Totem Live\, 9 bis Avenue Général Leclerc\, Rillieux-la-Pape\, Rhône\, 69140\, France
CATEGORIES:Concerts
ATTACH;FMTTYPE=image/jpeg:https://www.feedbackmusik.net/wp-content/uploads/2025/07/Phil-Campbell-Bandeau.jpg
END:VEVENT
BEGIN:VEVENT
DTSTART;TZID=Europe/Paris:20251123T190000
DTEND;TZID=Europe/Paris:20251123T230000
DTSTAMP:20260421T160736
CREATED:20250627T094900Z
LAST-MODIFIED:20250627T094900Z
UID:736222-1763924400-1763938800@www.feedbackmusik.net
SUMMARY:Greenleaf + Guest en concert au Rock'n Eat à Lyon le dimanche 23 novembre 2025
DESCRIPTION:Sounds Like Hell Productions\, en accord avec Garmonbozia\, présente :\n\nCet automne\, Lyon s’apprête à vibrer au son Stoner Rock de GREENLEAF ! Le groupe suédois débarquera avec le gras de ses riffs\, l’énergie brute de ses grooves et la chaleur du désert brûlant. Sounds Like Hell Productions te prépare une immersion totale dans l’univers du Fuzz / Stoner le 23 novembre prochain au Rock’n’Eat (Lyon).\n\n——————————————————————–\nBILLETTERIE :\nMise en vente des billets ce vendredi 27 juin à 10h\nTarifs : Normal : 24.20€ – Réduits : 22.49€ – sur place : 25.50€\nhttps://slhproductions.fr/agenda/greenleaf\nhttps://www.rockneat.com\nPlaces disponibles sur les réseaux Yurplan\, See Tickets\, Dice\, France Billet\, Ticketmaster et Pass Culture\n——————————————————————–\nINFOS PRATIQUES : \nRock’n’Eat32 Quai Arloing69009 Lyon\nPas de vestiaire\nBilletterie et bar : les paiements en CB sont acceptés. La vente d’alcool au -18 ans est interdite.\nAttention : les mineurs de -16 ans doivent être accompagnés d’un majeur.\n\nACCÈS :\nBus 2\, 19\, 31\, 45 et C14 arrêt Pont Koënig R.D.Métro D arrêt ValmyParkings en faceStation Vélo’V\nEn savoir plus : https://www.rockneat.com\n———————————————————————–\n\n► GREENLEAF – Stoner Rock – Borlänge\, Suède\nOriginaire de Borlänge en Suède et formé en 1999\, GREENLEAF évolue dans un style stoner rock. Il est le projet parallèle de Tommi Holappa (guitariste de Dozer)\, du batteur Daniel Lidén (Demon Cleaner\, Dozer) et du bassiste et ingénieur du son Bengt Bäcke. Le trio inclut rapidement divers musiciens issus de la scène Stoner scandinave\, tels que Peder Bergstrand (Lowrider) et Oskar Cedermalm (Truckfighters).D’abord discret et en marge de leurs projets respectifs\, GREENLEAF s’affirme progressivement comme un groupe à part entière dans les années 2010\, avec Holappa restant le seul membre fondateur actif. Le groupe se tourne alors vers une activité de tournée régulière et voit son line-up évoluer au fil des albums.\nDepuis ses débuts\, GREENLEAF a sorti huit albums studio salués par la critique\, dont Revolution Rock (2001)\, Agents of Ahriman (2007)\, Trails & Passes (2014)\, Rise Above the Meadow (2016)\, Hear the Rivers (2018) et Echoes From A Mass (2021). Reconnus pour leur son heavy\, groovy et psychédélique\, fidèle à l’esprit du Stoner Rock\, les musiciens se renouvellent à chaque sortie.\nAvec leur neuvième album The Head & The Habit (Napalm Records)\, ils atteignent le sommet d’une longue ascension. La signature musicale et la maîtrise affinée du guitariste Tommi Holappa\, pionnier et pilier de la scène Stoner Rock européenne depuis plus de 25 ans\, transparaissent clairement. Celles-ci sont parfaitement complétées par la sensibilité\, le sens intuitif de la mélodie et la profondeur de caractère que la voix du chanteur de formation classique Arvid Hällagård apporte au son de GREENLEAF.\nOutre des lignes vocales de classe mondiale et des riffs puissants à la puissance électrique\, GREENLEAF a accordé une attention particulière aux thèmes de The Head & The Habit\, qui élèvent ses paroles bien au-dessus de la plupart des clichés du genre. Comme le titre de l’album l’indique\, les nouvelles chansons ressemblent à des nouvelles symboliques qui tournent autour de luttes émotionnelles et même de maladies mentales. Écrites par le chanteur\, les paroles reflètent des expériences réelles\, car Hällagård travaille avec des personnes qui souffrent de problèmes de toxicomanie et de santé psychologique.\nFacebook : https://www.facebook.com/greenleafrocks/\nInstagram : https://www.instagram.com/greenleafband\n“Breathe\, Breathe Out“ :https://www.youtube.com/watch?v=MUQE-PtRzg4\n\n——————————————————————–\nSounds Like Hell Productionscontact@slhproductions.frwww.facebook.com/slhproductions
URL:https://www.feedbackmusik.net/event/greenleaf-guest-en-concert-au-rockn-eat-a-lyon-le-dimanche-23-novembre-2025/
LOCATION:Rock N Eat Live\, 32 Quai Arloing\, Lyon\, Rhone\, 69009\, France
CATEGORIES:Concerts
ATTACH;FMTTYPE=image/jpeg:https://www.feedbackmusik.net/wp-content/uploads/2025/06/Greenleaf-Bandeau.jpg
END:VEVENT
BEGIN:VEVENT
DTSTART;TZID=Europe/Paris:20251129T190000
DTEND;TZID=Europe/Paris:20251129T230000
DTSTAMP:20260421T160736
CREATED:20250311T130852Z
LAST-MODIFIED:20250311T130853Z
UID:652791-1764442800-1764457200@www.feedbackmusik.net
SUMMARY:Katatonia + Evergrey et Klorg en concert à La Rayonne à Lyon-Villeurbanne le samedi 29 novembre 2025
DESCRIPTION:  \nSounds Like Hell Productions présente : \nAmbassadeurs de la morosité\, grands corbeaux suédois de Death Metal mélodique\, les musiciens de KATATONIA sont de retour à Lyon ! Cette fois\, on te convie à La Rayonne le samedi 29 novembre pour un concert au noir si intense à en rendre jaloux Pierre Soulages. Pour cette obscure rencontre\, KATATONIA sera accompagné des excellents EVERGREY et KLOGR !\n——————————————————————–\nBILLETTERIE :\nLes places seront mises en vente dès vendredi 14 mars à 10h !\nhttps://slhproductions.fr/agenda/katatonia/\nhttps://larayonne.org\nPlaces disponibles sur les réseaux Yurplan\, See Tickets\, Dice\, France Billet\, Ticketmaster et Pass Culture.\n——————————————————————–INFOS PRATIQUES :\nLa Rayonne7 rue Henri Legay69100 Villeurbanne\nOuverture des portes dès 19h00 (à confirmer)\nBar et vestiaire tenus par la salleFoodtruck les soirs de concerts\n\nACCÈS :\nArrêt « Vaulx-en-Velin La Soie » à 500mMétro A\, Tram T3\, Bus C8\, C15\, 16\, 28\, 52\, 68\, 100.Piste cyclable aménagée le long du Tram T3\n——————————————————————–\n► KATATONIA – Death Metal mélodique – Suède\nKATATONIA s’apprête à entamer une nouvelle tournée épique en tête d’affiche cet automne à travers l’Europe et le Royaume-Uni ! Débutant le 11 novembre à Tampere\, en Finlande\, la tournée couvrira 31 grandes villes au total et se terminera en apothéose à Stockholm\, en Suède\, le 20 décembre.\nEn 2023\, KATATONIA a sorti son dernier album en date et le premier chez Napalm Records\, Sky Void of Stars\, enthousiasmant les critiques et les fans. Arrivé en tête de plusieurs classements dont ceux de Rock Hard et du magazine Legacy en Allemagne\, ce nouvel opus présente une fusion brillante de Death Metal mélodique et de Post-Rock atmosphérique qui défie les genres. Après la sortie de l’album\, le groupe s’est lancé dans une grande tournée en tête d’affiche à travers l’Europe et le Royaume-Uni aux côtés de Sólstafir et SOM.\nAujourd’hui\, il est temps de ramener la brillance obsédante et la noirceur vibrante de KATATONIA sur les scènes ! Avec des invités spéciaux comme Evergrey et Klogr\, ce package est parfait pour nous plonger dans les longues nuits d’hiver !\nLe chanteur et membre fondateur Jonas Renkse ajoute :« Nous sommes très heureux d’annoncer notre nouvelle tournée avec nos amis de la côte ouest Evergrey et Klogr d’Italie. Dès que l’été sera terminé\, nous nous préparerons à vous offrir le plus grand et le meilleur live de tous les temps. Rendez-vous à l’automne !\nSite web : https://katatonia.com/\nFacebook : https://www.facebook.com/katatonia\nInstagram : https://www.instagram.com/katatoniaband/\n“Birds“ :\nhttps://www.youtube.com/watch?v=_ILWPwc4KaY\n\n\n► EVERGREY – Heavy Darkness – Suède\nLes pionniers du Heavy Darkness EVERGREY font leur grand retour à Lyon ! Le quintette nous présentera les nouveaux titres de son dernier album en date\, Theories Of Emptiness (Napalm Records)\, sorti en juin 2024.\nMélangeant harmonieusement des thèmes sombres et émotifs avec des éléments progressifs complexes et du Heavy Metal mélodique\, l’album a fait des vagues\, se classant en première position dans les classements éditoriaux des magazines Metal Hammer et Rock Hard (Allemagne)\, Aardschok et Sweden Rock. Avec Theories Of Emptiness\, EVERGREY a créé un chef-d’œuvre absolu qui donne la chair de poule\, consolidant son héritage et continuant à façonner l’histoire du Metal après 30 ans de carrière.\n« Pour nous\, la progression est primordiale »\, déclare Tom S. Englund à propos du nouvel opus de onze titres Theories Of Emptiness. « Nous sommes déterminés à faire en sorte que notre musique reste innovante et évite la stagnation. Sur chaque album\, nous nous efforçons d’introduire quelque chose de nouveau – une saveur unique\, une tonalité ou un accord différent\, des voix nouvelles dans notre écriture\, ou des techniques de production audacieuses. »\nSite web : https://evergrey.net\nFacebook : https://www.facebook.com/Evergrey\nInstagram : https://www.instagram.com/evergreyofficial/\n“Cold Dreams“ :\nhttps://www.youtube.com/watch?v=tXWj0lEXkNc\n\n\n► KLOGR – Metal alternatif – Italie / USA\nMalgré les préjugés qui entourent le monde du Metal alternatif\, KLOGR est un groupe qui a toujours su captiver et fidéliser son public. Sorti à l’automne dernier\, le quatrième album du groupe FRACTURED REALITIES mêle puissance et séduction\, « et quand bien même cet album ratisse le public le plus large possible\, il s’adresse aussi bien aux amateurs de jolies mélodies\, de puissance sonores qu’à l’auditeur amateur de nouvelles sensations. » (Metal Eyes)\n« Beaucoup de choses se sont produites ces dernières années et ont ralenti l’activité du groupe\, des problèmes personnels et des situations globales que nous connaissons tous. Le nouveau travail a pris du temps\, mais je suis sûr d’une chose : jamais autant d’énergie n’a été concentrée dans un album de Klogr. Cela en valait la peine\, et nous sommes prêts à revenir sur la scène et à y rester ! »\, déclare Rusty.\nDepuis sa formation en 2011\, KLOGR a tourné sans relâche jusqu’en 2020\, conquérant des scènes internationales et assurant la première partie de groupes tels que Prong\, Limp Bizkit\, Guano Apes et Puddle of Mudd. En 2017\, le groupe a publié une vidéo capturant ses performances live intenses dont des séquences de concerts avec l’invité spécial Art Cruz.\nIl y a de la puissance et de la séduction tout au long de Fractured Realities\, et quand bien même cet album ratisse le public le plus large possible\, il s’adresse aussi bien aux amateurs de jolies mélodies\, de puissance sonores qu’à l’auditeur amateur de nouvelles sensations.\nSite web : https://klogr.net\nFacebook : https://www.facebook.com/klogr\nInstagram : https://www.instagram.com/klogrofficial/\n“THE TWISTED ART“ :\nhttps://www.youtube.com/watch?v=42Xtbs-UE68\n\n——————————————————————–Sounds Like Hell Productions contact@slhproductions.frwww.facebook.com/slhproductions
URL:https://www.feedbackmusik.net/event/katatonia-evergrey-et-klorg-en-concert-a-la-rayonne-a-lyon-villeurbanne-le-samedi-29-novembre-2025/
LOCATION:La Rayonne\, 7 rue Henri Legay\, Villeurbanne\, Rhône\, 69100\, France
CATEGORIES:Concerts
ATTACH;FMTTYPE=image/jpeg:https://www.feedbackmusik.net/wp-content/uploads/2025/03/Bandeau-Katatonia.jpg
END:VEVENT
END:VCALENDAR