BEGIN:VCALENDAR
VERSION:2.0
PRODID:-//FeedBack Music - ECPv6.11.2.1//NONSGML v1.0//EN
CALSCALE:GREGORIAN
METHOD:PUBLISH
X-WR-CALNAME:FeedBack Music
X-ORIGINAL-URL:https://www.feedbackmusik.net
X-WR-CALDESC:Évènements pour FeedBack Music
REFRESH-INTERVAL;VALUE=DURATION:PT1H
X-Robots-Tag:noindex
X-PUBLISHED-TTL:PT1H
BEGIN:VTIMEZONE
TZID:Europe/Paris
BEGIN:DAYLIGHT
TZOFFSETFROM:+0100
TZOFFSETTO:+0200
TZNAME:CEST
DTSTART:20260329T010000
END:DAYLIGHT
BEGIN:STANDARD
TZOFFSETFROM:+0200
TZOFFSETTO:+0100
TZNAME:CET
DTSTART:20261025T010000
END:STANDARD
END:VTIMEZONE
BEGIN:VEVENT
DTSTART;TZID=Europe/Paris:20260117T190000
DTEND;TZID=Europe/Paris:20260117T230000
DTSTAMP:20260421T132424
CREATED:20250704T144733Z
LAST-MODIFIED:20250704T145857Z
UID:739920-1768676400-1768690800@www.feedbackmusik.net
SUMMARY:Revnoir & TSS e concert à Lyon au Marché Gare le Samedi 17 janvier 2026
DESCRIPTION:Sounds Like Hell Productions\, en accord avec Opus Live et The Link Productions\, présente :\n\nC’est un plateau 100 % français qui ouvrira les hostilités de l’année 2026 pour Sounds Like Hell Productions ! En effet\, SLH aura le plaisir d’accueillir REVNOIR et TSS en co-tête d’affiche à Lyon le samedi 17 janvier 2026. Depuis quelques mois\, les deux formations connaissent une ascension fulgurante au-devant des scènes Metalcore et Emo françaises\, et s’unissent à l’occasion d’une tournée qui passera par le Marché Gare.\nToute l’équipe de Sounds Like Hell Productions souhaite vous retrouver dans une forme olympique pour ce premier concert de l’année 2026 qui s’annonce aussi émotif qu’énergique !\n\n——————————————————————–\n\nBILLETTERIE\nTarifs : Normal : 25.90€ – Tarif réduit : 24.50€ – sur place : 27\,50€\nMise en vente dès lundi 7 juillet à 11h !\nhttps://slhproductions.fr/agenda/revnoir-tss/\nhttps://marchegare.fr\nEgalement disponibles sur les réseaux Yurplan\, France Billet\, See Tickets\, Ticketmaster\, Dice et Pass Culture.\n\n——————————————————————-\n\nINFOS PRATIQUES\nMarché Gare4-6 place Hubert Mounier69002 Lyon\nVestiaire payant (2 €)\nBilletterie et bar : les paiements en CB sont acceptés. La vente d’alcool aux -18 ans est interdite.\nAttention : les mineurs de -16 ans doivent être accompagnés d’un majeur.\n\nACCÈS\nTram T1/T2 Hôtel Région MontrochetBus 63 Hôtel Région Montrochet / bus S1 Charlemagne C.PerrierStation Velo’V Confluence Hôtel de RégionParking LPA « Marché Gare – La Confluence » 77 rue Delandine\n\n———————————————————————–\n\n► REVNOIR – Metalcore – France\nREVNOIR est un groupe de Metalcore français formé en septembre 2023 par Maxime Rodriguez-Medallo (chant)\, Julien Ho-Tong (guitare\, piano)\, Kaz Nakazawa (batterie). Sa musique fusionne Metalcore\, Rock et Dark Électro\, offrant un son à la fois puissant et mélodique.\nLe premier single du groupe\, ‘Bang Bang’\, sort en septembre 2023 et marque les esprits avec une production soignée et une énergie percutante. Suivent les titres ‘In Limbo’ et ‘20mg’\, qui consolident son identité sonore. En juin 2024\, REVNOIR dévoile son premier EP\, Revenant\, acclamé pour sa profondeur émotionnelle et sa richesse musicale.\nLe groupe a rapidement gagné en notoriété\, remplissant La Boule Noire à Paris et entamant une tournée européenne aux côtés de Future Palace. À l’automne 2024\, REVNOIR signe chez Arising Empire. En avril 2025\, le concert du groupe à La Maroquinerie de Paris affiche complet\, tout en annonçant une apparition sur des affiches de festivals de renom comme le Summer Breeze\, Taubertal\, etc.\nSite Internet : https://revnoir.com/\nFacebook : https://www.facebook.com/revnoirofficial\nInstagram : https://www.instagram.com/revnoir_\n« Night Terror » :https://www.youtube.com/watch?v=AWp6UIh1OaE\n\n► TSS – Metalcore / Emopop – France\nTSS (anciennement connu sous le nom de The Sunday Sadness) est un groupe français de Metal moderne dynamique\, réputé pour son mélange innovant d’Emo\, de Metalcore\, de Rock alternatif\, de Synthwave et\, plus récemment\, d’influences Neo-Metal. Fondé en 2016 par Kirby\, qui cherchait à combiner ses racines Emo et Metalcore pour créer un son nouveau et rafraîchissant\, TSS se consolide rapidement avec l’arrivée de John à la guitare et Hugo à la batterie.\nSon premier single\, ‘The Wrong Way’\, sort en décembre 2017. En mai 2018\, TSS présente ‘Lost In The Crowd’\, un morceau qui prépare le terrain pour son tout premier concert\, en première partie d’Asking Alexandria à Paris. Ce show permet à TSS de s’imposer comme une force prometteuse sur la scène musicale française.\nLe titre ‘Someone’ (2018)\, mélange de synthwave et retrowave\, marque un tournant et met en avant John comme deuxième chanteur principal. Ce changement est suivi par le premier EP éponyme sorti en mai 2019\, porté par le single ‘Damn I Hate It’\, salué pour sa fusion entre Funk\, Synthwave et éléments Emo. La popularité croissante du groupe est confirmée par un concert à guichets fermés à Paris pour la sortie de l’album.\nAu fur et à mesure de son évolution\, le groupe commence à introduire des paroles en français dans ses chansons. Cette originalité attire l’attention du label indépendant PlayTwo\, et aboutit à la sortie de l’album REGRETS\, en collaboration avec Warner Music et la chaîne de télévision TF1. En septembre 2021\, le groupe change de nom pour devenir TSS\, marquant cette étape avec la sortie du single ‘1996’\, qui suscite un vif intérêt en France.\nEn février 2023\, TSS adopte un style plus agressif avec ‘Tes Pleurs’\, un morceau de Metalcore moderne inspiré de Bring Me The Horizon et Poppy. Cette nouvelle orientation élargit son public tout en conservant une esthétique gothique / k-pop unique. L’esprit expérimental du groupe conduit à la sortie de ‘Fantasize’ (2023)\, un tube viral qui fusionne Rock alternatif\, J-rock et Metal\, et qui a récolté des millions d’écoutes sur Spotify.La dynamique se poursuit avec ‘Would You Be My Therapy?’ en décembre 2023\, un morceau qui atteint la première place des charts rock iTunes et attire l’attention de nombreux labels. En septembre 2024\, après avoir signé un contrat avec Fearless Records\, TSS a préparé la sortie de son nouvel album\, End Of Time\, sorti en juin 2025.\nLe parcours de TSS\, caractérisé par une innovation constante et un mélange des genres\, l’a positionné comme une force montante de la scène Metal moderne\, avec une base de fans croissante dans diverses communautés musicales.\nSite internet : https://thesundaysadness.com/Facebook : https://www.facebook.com/TheSundaySadness\nInstagram : https://www.instagram.com/thesundaysadness/\n”Would you be my therapy?’ (ft. Windwaker) :https://www.youtube.com/watch?v=2H2qimsXL7c\n\nSounds Like Hell Productionshttps://slhproductions.frhttp://www.facebook.com/slhproductions\n 
URL:https://www.feedbackmusik.net/event/revnoir-tss-e-concert-a-lyon-au-marche-gare-le-samedi-17-janvier-2026/
LOCATION:Marché Gare\, 34 rue Casimir Périer\, Lyon\, Rhône\, 69002\, France
CATEGORIES:Concerts
ATTACH;FMTTYPE=image/jpeg:https://www.feedbackmusik.net/wp-content/uploads/2025/07/TSS-Revnoir-Bandeau.jpg
END:VEVENT
BEGIN:VEVENT
DTSTART;TZID=Europe/Paris:20260131T180000
DTEND;TZID=Europe/Paris:20260131T230000
DTSTAMP:20260421T132424
CREATED:20250924T173233Z
LAST-MODIFIED:20250924T173233Z
UID:777132-1769882400-1769900400@www.feedbackmusik.net
SUMMARY:Heidenfest 2026 (Korpiklaani - Finntroll - Heidevolk - Trollfest - The Dread Crew Of Oddwood) - Le Transbordeur à Lyon-Villeurbanne le samedi 31 janvier 2026 dès 18h
DESCRIPTION:Sounds Like Hell Productions\, en accord avec Garmonbozia\, présente :\n\nLe HEIDENFEST revient en 2026 avec KORPIKLAANI\, FINNTROLL\, HEIDEVOLK\, TROLLFEST et THE DREAD CREW OF ODDWOOD ! Pour la première fois dans leurs longues carrières\, KORPIKLAANI et FINNTROLL partiront en tournée ensemble.\nPour célébrer cet événement unique qui aura lieu le samedi 31 janvier au Transbordeur\, ils seront rejoints par certains de leurs meilleurs amis\, HEIDEVOLK et TROLLFEST. THE DREAD CREW OF ODDWOOD se chargera d’ouvrir le bal avec du mouvement dans le Pit\, une ambiance générale placée sous le signe de la bonne humeur avec de la bonne zique\, des potes\, de la bière et des hymnes à reprendre tous en chœur !\nLe HEIDENFEST 2026 promet d’être une soirée inoubliable !\n——————————————————————–\nBILLETTERIE\nPrévente et mise en vente générale le 24 septembre à 16h !\nhttps://slhproductions.fr/agenda/heidenfest2026/\nhttps://www.transbordeur.fr\nTarifs : Normal : 48.50€ – Réduit : 45.98€ – sur place : 53€\n\n——————————————————————–\nINFOS PRATIQUES\nLe Transbordeur3 Bd Stalingrad69100 Villeurbanne\nOuverture des portes dès 18h00 (à confirmer)\nBar et restauration sur place\n\nACCÈS\nEn bus : lignes C1\, C4 et C5 – Arrêt Cité Internationale Centre de Congrès ou lignes C2\, C26 et 70 – Arrêt Cité Internationale Transbordeur\nÀ vélo : un parking abrité avec de nombreux arceaux est à votre disposition devant la salle\, sous l’autopont + possibilité de laisser votre casque et votre batterie de vélo électrique gratuitement en consigne à l’entrée de la salle\nParking le plus proche : P2 de la Cité Internationale (payant) – le parking du Transbordeur est réservé au personnel et aux PSH\n\n——————————————————————–\n\n► KORPIKLAANI – Folk Metal – Lahti\, Finlande\nFondé en 2003 par Jonne Järvelä (chanteur / guitariste)\, KORPIKLAANI est l’un des piliers du Folk Metal finlandais. Avec un style immédiatement reconnaissable\, le groupe a marqué ces deux dernières décennies de la scène Metal grâce à des hymnes festifs\, souvent liés aux traditions finlandaises\, à la nature\, aux mythes nordiques… et bien sûr à la vodka et au sauna !\nSon douzième album studio\, Rankarumpu (2024\, Nuclear Blast Records)\, marque un retour à des tempos plus rapides\, proches de ses débuts tout en intégrant de nouvelles couleurs musicales. On y retrouve des morceaux énergiques comme ‘Tapa sen kun kerkeet’ (anti-guerre) ou ‘Saunaan’\, mais aussi des compositions plus atypiques comme ‘Viikatelintu’\, une ballade plus nuancée.\nL’arrivée du violoniste Olli Vänskä (ex-Turisas) et la contribution du batteur Samuli Mikkonen apportent une nouvelle dynamique créative\, enrichissant le son de KORPIKLAANI aux côtés de l’accordéoniste Sami Perttula. Pour la première fois depuis longtemps\, Järvelä signe presque tous les textes\, puisant son inspiration dans les paysages finlandais où il vit désormais.\nEnregistré avec le producteur Janne Saksa et masterisé par Svante Forsbäck (Rammstein)\, Rankarumpu est considéré comme l’album le plus abouti du groupe à ce jour\, mettant particulièrement en avant les instruments traditionnels.\nEt la suite ? Pas de repos : KORPIKLAANI prévoit de parcourir le monde avec cet album\, entre tournées au Royaume-Uni\, en Amérique du Nord\, festivals et grandes dates européennes\, dont le HEIDENFEST qui s’arrêtera au Transbordeur le samedi 31 janvier 2026 !\nSite web : https://korpiklaani.com\nFacebook : https://www.facebook.com/korpiklaani/\nInstagram : https://www.instagram.com/official_korpiklaani\n“Aita“ : https://www.youtube.com/watch?v=YALBFRma2cw\n\n► FINNTROLL – Folk Metal – Helsinki\, Finlande\nNé en 1997 après une nuit trop arrosée\, FINNTROLL voit le jour lorsque Somnium (ex-Thy Serpent\, Impaled Nazarene) et Katla décident de mélanger riffs de guitare extrêmes et « Humppa »\, une polka finlandaise traditionnelle. Leur première demo Rivfader (1998) ouvre la voie à un line up complet\, et dès leur premier album Midnattens Widunder (1999)\, le groupe impose sa marque : un mélange unique de Black Metal\, de Folk et d’une bonne dose de folie trollesque.\nLe succès international arrive avec Jaktens Tid (2001)\, acclamé par la critique et classé dans les charts finlandais. Malgré ce triomphe\, le groupe traverse des épreuves : Katla doit quitter la scène pour raisons médicales et\, en 2003\, la mort tragique de Somnium menace de mettre fin à l’aventure. Mais FINNTROLL choisit de continuer et recrute Routa à la guitare\, puis présente Nattfödd en 2004\, un tournant musical qui propulse la formation sur les grandes scènes européennes.\nEn 2006\, Mathias “Vreth” Lillmåns rejoint le groupe comme nouveau chanteur\, et FINNTROLL confirme son statut de pionnier avec Ur Jordens Djup (2007) et Nifelvind (2010)\, qui atteint le top 10 en Finlande et se classe aussi en Allemagne. Sa musique évolue : au-delà du Folk et du Metal\, le compositeur Trollhorn y intègre salsa\, klezmer ou encore swing\, sans jamais trahir l’identité du groupe.\nAvec son sixième album Blodsvept (2013)\, FINNTROLL revient à une production plus brute\, renouant avec la férocité de ses débuts. L’album est une explosion de puissance\, de mélodie et d’excentricité : banjos\, accents jazz New Orleans\, atmosphères de jeu vidéo… Chaque morceau réserve des surprises\, entre folie assumée et créativité débridée.\nVéritables icônes du Folk Metal extrême\, FINNTROLL reste fidèle à son esprit : des trolls nocturnes\, grotesques mais irrésistibles\, remplaçant la faim de chair humaine par une soif inextinguible et de chaos festif. Sa musique\, tour à tour sauvage et entraînante\, a inspiré toute une génération de groupes et continue d’embarquer les foules dans leur délire trollesque.\nSite web : https://www.trollhorde.com/\nFacebook : https://www.facebook.com/officialfinntroll\nInstagram : https://www.instagram.com/finntroll_official/\n“Mask“ : https://www.youtube.com/watch?v=zS1LyuY0qmI\n\n► HEIDEVOLK – Viking / Folk Metal – province de Gueldre (Pays-Bas)\nFormé en 2002 dans les magnifiques landes de la Veluwe\, avec l’ambition de mêler les chœurs vikings au Metal\, HEIDEVOLK est un groupe de six hommes originaires d’Arnhem\, dans la province de Gelderland (Pays-Bas). Unique en son genre\, il conquiert les scènes du monde entier grâce à ses deux voix masculines claires immédiatement reconnaissables et ses chansons irrésistiblement entraînantes qui ravivent le feu païen dans l’âme de nombreux fans.\nIls livrent leur musique sur des sujets divins et des plaisirs profanes avec la même intégrité\, alimentés par le feu folklorique et la fierté païenne. Avec un répertoire allant de l’épique au rageur\, des concerts captivants et un désir inébranlable de se produire sur scène\, HEIDEVOLK est devenu un visage familier en Europe\, en Amérique du Nord et en Amérique du Sud. HEIDEVOLK est synonyme d’attitude sans compromis\, de concerts intenses et de transcendance des barrières entre l’artiste et le public.\nDepuis plus de vingt ans\, HEIDEVOLK vous invite à prendre du recul sur le barrage incessant des médias et des stimuli\, à prendre une pause et à observer le monde qui vous entoure\, en laissant sa richesse vous captiver et vous enchanter. Alors que le monde devient de plus en plus diffus\, que les sociétés nous poussent à choisir notre camp et que des algorithmes restrictifs créent une perception trompeuse de la réalité\, HEIDEVOLK vous fait prendre encore plus de recul pour observer quelque chose d’encore plus proche : vous-même.\nGuidé par les qualités des runes\, « WEDERKEER » (Retour\, Renaissance) vous emmène dans un voyage introspectif à travers des histoires sur le passage à l’âge adulte\, la recherche de soi et la construction de son propre chemin. De la chasse à l’aurochs pour acquérir son courage indomptable\, aux luttes mentales au plus profond d’une crise. Du mur de boucliers pour protéger ses proches\, au combat féroce d’une bataille insensée. Bien que le son caractéristique du groupe soit indéniablement présent\, « WEDERKEER » montre que HEIDEVOLK est prêt à s’éloigner des sentiers battus et à faire évoluer son écriture. « WEDERKEER » marquera sans aucun doute l’histoire de HEIDEVOLK.\nSite web : https://www.heidevolk.com/\nFacebook : https://www.facebook.com/heidevolkofficial\nInstagram : https://www.instagram.com/heidevolk_official\n“Drink met de Goden (Walhalla)“ : https://www.youtube.com/watch?v=rYO0D_z9oww\n\n► TROLLFEST – Folk Metal – Oslo\, Norvège\nLe légendaire groupe norvégien TROLLFEST est prêt à offrir au grand public sa musique groovy\, énergisante et imprégnée de K.A.O.S ! Après avoir accumulé des millions de streams sur YouTube et Spotify\, TROLLFEST rejoint Napalm Records pour le prochain chapitre de sa carrière. Depuis sa création en 2003\, le groupe a donné de nombreux concerts à travers le monde\, se produisant notamment au Wacken Open Air\, au 70 000 Tons Of Metal et au Summer Breeze\, partageant la scène avec ALESTORM\, WINTERSUN\, KORPLIKAANI et FINNTROLL\, et se faisant un nom en tant que pionniers du True Norwegian Balkan Metal !\nDans True Norwegian Balkan K.A.O.S.\, TROLLFEST sort une nouvelle version énergique et explosive de son classique ‘Der Jegermeister’ afin de célébrer sa signature chez Napalm Records. ‘Der Jegermeister’\, le magnifique et brillant super troll plein de sagesse\, qui adore chasser et boire : très apprécié des fans lors des concerts\, ce titre vous donnera envie de pogoter sur votre canapé !\nSite web : https://www.trollfest.com/\nFacebook : https://www.facebook.com/trollfestofficial/\nInstagram : https://www.instagram.com/trollfest_official/\n“Der Jegermeister“ Re-Recording 2019 : https://www.youtube.com/watch?v=rE7uYWLUiLA\n\n► THE DREAD CREW OF ODDWOOD – Folk Metal acoustique – San Diego\, Californie\, USA\nFormé en 2008 en Californie\, THE DREAD CREW OF ODDWOOD s’est imposé comme l’un des groupes indépendants majeurs du Folk Metal. Avec des instruments 100 % acoustiques\, ces pirates ont créé le style unique “Heavy Mahogany”\, un mélange explosif de Metal\, de Folk celtique et européen\, où ils racontent batailles\, beuveries et aventures maritimes.\nLe groupe a sorti cinq albums\, dont Lawful Evil et Rust & Glory\, et a marqué les esprits avec des morceaux comme ‘Dead Man’s Medley’ (présent dans Rocket League) et l’hymne festif ‘Raise Your Pints’. Avec plus de 30 000 auditeurs mensuels sur Spotify\, les musiciens ont su fédérer une solide communauté internationale.\nCôté live\, l’équipage sillonne l’Amérique du Nord et l’Europe\, enchaînant tournées avec ALESTORM\, festivals comme le Wacken Winter Nights\, et événements majeurs tels que la croisière 70 000 Tons of Metal. Toujours plus rapides\, plus festifs et plus déjantés\, ils continuent de repousser les limites de leur univers pirate.\nSite web : https://thedreadcrewofoddwood.com\nFacebook : https://www.facebook.com/thedreadcrewofoddwood/\nInstagram : https://www.instagram.com/oddwood/\n“Leather Ship“ : https://www.youtube.com/watch?v=lGEOV66CXis\n\n——————————————————————–\nSounds Like Hell Productionscontact@slhproductions.frwww.facebook.com/slhproductions
URL:https://www.feedbackmusik.net/event/heidenfest-2026-korpiklaani-finntroll-heidevolk-trollfest-the-dread-crew-of-oddwood-le-transbordeur-a-lyon-villeurbanne-le-samedi-31-janvier-2026-des-18h/
LOCATION:Le Transbordeur\, 3\, boulevard Stalingrad \, Villeurbanne\, 69100 \, France
CATEGORIES:Concerts
ATTACH;FMTTYPE=image/jpeg:https://www.feedbackmusik.net/wp-content/uploads/2025/09/Heidenfest-Bandeau.jpg
END:VEVENT
END:VCALENDAR