BEGIN:VCALENDAR
VERSION:2.0
PRODID:-//FeedBack Music - ECPv6.11.2.1//NONSGML v1.0//EN
CALSCALE:GREGORIAN
METHOD:PUBLISH
X-WR-CALNAME:FeedBack Music
X-ORIGINAL-URL:https://www.feedbackmusik.net
X-WR-CALDESC:Évènements pour FeedBack Music
REFRESH-INTERVAL;VALUE=DURATION:PT1H
X-Robots-Tag:noindex
X-PUBLISHED-TTL:PT1H
BEGIN:VTIMEZONE
TZID:Europe/Paris
BEGIN:DAYLIGHT
TZOFFSETFROM:+0100
TZOFFSETTO:+0200
TZNAME:CEST
DTSTART:20260329T010000
END:DAYLIGHT
BEGIN:STANDARD
TZOFFSETFROM:+0200
TZOFFSETTO:+0100
TZNAME:CET
DTSTART:20261025T010000
END:STANDARD
END:VTIMEZONE
BEGIN:VEVENT
DTSTART;TZID=Europe/Paris:20261203T190000
DTEND;TZID=Europe/Paris:20261203T230000
DTSTAMP:20260421T104234
CREATED:20260202T112609Z
LAST-MODIFIED:20260202T112610Z
UID:862600-1796324400-1796338800@www.feedbackmusik.net
SUMMARY:Eluvetie - Pain et Wolfheart en concert au Tranbordeur à Lyon-Villeurbanne le jeudi 03 décembre 2026
DESCRIPTION:  \nSounds Like Hell Productions\, en accord avec Garmonbozia\, présente :\n\nLe jeudi 3 décembre\, c’est un plateau Metal d’exception réunissant ELUVEITIE\, PAIN et WOLFHEART qui fera trembler Le Transbordeur ! Entre traditions celtiques et Death Metal mélodique\, chaque groupe viendra défendre son univers puissant et immersif. Trois visions du Metal réunies sur une seule scène\, et une soirée taillée pour marquer les esprits !\n\n\n——————————————————————–\nBILLETTERIE\nMise en vente générale mercredi 4 février 2026 à 10h !\nhttps://slhproductions.fr/agenda/eluveitie/\nhttps://www.transbordeur.fr\nTarifs : Normal : 43.50€ Réduit : 39.91€ – sur place : 48€\n——————————————————————–\nINFOS PRATIQUES\nLe Transbordeur3 Bd Stalingrad69100 Villeurbanne\nOuverture des portes dès 18h00 (à confirmer)\nBar et restauration sur place\n\nACCÈS\nEn bus : lignes C1\, C4 et C5 – Arrêt Cité Internationale Centre de Congrès ou lignes C2\, C26 et 70 – Arrêt Cité Internationale Transbordeur\nÀ vélo : un parking abrité avec de nombreux arceaux est à votre disposition devant la salle\, sous l’autopont + possibilité de laisser votre casque et votre batterie de vélo électrique gratuitement en consigne à l’entrée de la salle.\nParking le plus proche : P2 de la Cité Internationale (payant) – le parking du Transbordeur est réservé au personnel et aux PSH.\n——————————————————————–\n\n\n► ELUVEITIE – Folk Metal / Death Metal mélodique – Suisse\nFondé en 2002 par Chrigel Glanzmann\, ELUVEITIE a toujours su fusionner le Metal moderne et les traditions musicales celtiques. Originaire des Alpes suisses et profondément ancré dans l’histoire\, la mythologie et la spiritualité celtiques\, le groupe est devenu un pilier de la scène Metal moderne.\nSon premier album\, Vên (2004)\, a posé les bases d’un mélange unique de Death Metal mélodique et de folk traditionnel. Les albums suivants Slania\, Everything Remains (As It Never Was)\, Helvetios et Origins\, ont consolidé leur réputation. Les albums acoustiques Evocation I – The Arcane Dominion et Evocation II – Pantheon ont démontré leur polyvalence.\nEn 2022\, ELUVEITIE a sorti les singles “Aidus” et “Exile of the Gods”\, marquant un nouveau chapitre dans son parcours musical et son cycle thématique\, dans la continuité du concept lyrique inauguré par son dernier album studio Ategnatos. Ces titres ont été suivis de l’annonce du dernier album en date\, ÀNV\, sorti en avril 2025. Le premier single de cet album\, “Premonition”\, offre un aperçu de l’évolution sonore du groupe.\nAu fil des ans\, ELUVEITIE a connu des changements de line-up\, dont la dernière addition en date\, Lea-Sophie Fischer au violon\, en mai 2024. Malgré ces changements\, l’essence et l’âme du groupe restent intactes. Avec neuf albums studio\, de nombreuses tournées à travers le monde et des concerts en tête d’affiche dans le monde entier\, ELUVEITIE continue d’être une force dynamique dans le genre metal.\nELUVEITIE reste fidèle à ses racines tout en explorant de nouveaux horizons musicaux. ÀNV\, l’un de ses albums les plus profonds et les plus sincères\, est le résultat de plus de 20 ans d’immersion intense dans la mythologie et la spiritualité celtiques\, traduisant une connaissance païenne profonde pour la génération moderne.Le parcours d’Eluveitie reflète un engagement envers l’authenticité et l’innovation\, leur assurant une place de choix dans le metal moderne.\nSite Internet : https://eluveitie.ch\nFacebook : https://www.facebook.com/eluveitie\nInstagram : https://www.instagram.com/eluveitie_official\n« Awen » : https://www.youtube.com/watch?v=dxdoR67p4BU\n\n\n► PAIN – Metal Industriel – Suède\nPeter Tägtgren\, musicien\, producteur et cerveau créatif qui se cache derrière PAIN\, évolue dans le milieu Metal depuis le début des années 90. Leader du groupe de Death Metal HYPOCRISY\, il est aussi connu pour avoir participé à de nombreux projets\, notamment BLOODBATH\, THE ABYSS et plus récemment LINDEMANN aux côtés de Till Lindemann de RAMMSTEIN. Il possède également son propre studio et a produit les albums de CELTIC FROST\, CHILDREN OF BODOM\, DIMMU BORGIR\, IMMORTAL…entre autres.\nAvec la création de PAIN en 1996\, Peter Tägtgren s’intéresse aux apports des sonorités électroniques dans le Metal et enregistre lui-même le chant ainsi que tous les instruments. Au fil des sorties d’albums\, Peter Tägtgren pousse plus loin ses explorations musicales et la popularité du groupe s’accroît progressivement. PAIN assure ainsi la première partie de NIGHTWISH sur sa tournée européenne en 2008 et tourne depuis lors régulièrement en tête d’affiche.\nLa renommée de PAIN s’établit autour de titres percutants tels que ‘End Of The Line’\, ‘Shut Your Mouth’\, ‘Same Old Song’\, ‘Follow Me’\, ‘Coming Home’ et bien d’autres ! Avec un line-up live aujourd’hui composé de Peter\, son fils Sebastian Tägtgren (batterie)\, Jonathan Olsson (basse) et Sebastian Svallan (guitares)\, PAIN a sorti son neuvième album studio I AM en mai 2024 !\nSite Internet : https://www.painworldwide.com\nFacebook : www.facebook.com/OfficialPain\nInstagram : https://www.instagram.com/painbandofficial\n“Go With The Flow” : https://www.youtube.com/watch?v=6kkBAjdRzpw\n\n\n► WOLFHEART – Death Metal mélodique – Lahti\, Finlande\nLe groupe finlandais de Death Metal mélodique WOLFHEART est l’un des plus actifs de l’industrie. Le septième album écrasant de cette machine nordique\, Draconian Darkness\, est sorti le 6 septembre 2024 et a été acclamé par la critique\, avant d’être suivi de tournées en Europe et au-delà.\nQue l’approche soit mélodique et optimiste\, acoustique et fragile\, Black / Death Metal brutal ou Doom atmosphérique\, WOLFHEART a tout pour plaire\, dans un mélange comme vous n’en avez jamais entendu auparavant. Avec sept albums à son actif\, WOLFHEART est devenu un incontournable du Death Metal mélodique extrêmement bien ficelé. Depuis février 2013\, le nom WOLFHEART est synonyme de Winter Metal atmosphérique mais brutal.\nSite Internet : https://www.wolfheartmetal.com\nFacebook : https://www.facebook.com/WolfheartRealm/\nInstagram : https://www.instagram.com/wolfheartofficial/\n“Forefathers“ : https://www.youtube.com/watch?v=j2pWWPcIsy8\n\n——————————————————————–Sounds Like Hell Productionscontact@slhproductions.frwww.facebook.com/slhproductions
URL:https://www.feedbackmusik.net/event/eluvetie-pain-et-wolfheart-en-concert-au-tranbordeur-a-lyon-villeurbanne-le-jeudi-03-decembre-2026/
LOCATION:Le Transbordeur\, 3\, boulevard Stalingrad \, Villeurbanne\, 69100 \, France
CATEGORIES:Concerts
ATTACH;FMTTYPE=image/jpeg:https://www.feedbackmusik.net/wp-content/uploads/2026/02/Eluvetie-Bandeau.jpg
END:VEVENT
END:VCALENDAR