BEGIN:VCALENDAR
VERSION:2.0
PRODID:-//FeedBack Music - ECPv6.11.2.1//NONSGML v1.0//EN
CALSCALE:GREGORIAN
METHOD:PUBLISH
X-ORIGINAL-URL:https://www.feedbackmusik.net
X-WR-CALDESC:Évènements pour FeedBack Music
REFRESH-INTERVAL;VALUE=DURATION:PT1H
X-Robots-Tag:noindex
X-PUBLISHED-TTL:PT1H
BEGIN:VTIMEZONE
TZID:Europe/Paris
BEGIN:DAYLIGHT
TZOFFSETFROM:+0100
TZOFFSETTO:+0200
TZNAME:CEST
DTSTART:20250330T010000
END:DAYLIGHT
BEGIN:STANDARD
TZOFFSETFROM:+0200
TZOFFSETTO:+0100
TZNAME:CET
DTSTART:20251026T010000
END:STANDARD
END:VTIMEZONE
BEGIN:VEVENT
DTSTART;TZID=Europe/Paris:20250128T190000
DTEND;TZID=Europe/Paris:20250128T230000
DTSTAMP:20260422T100953
CREATED:20240714T010511Z
LAST-MODIFIED:20240714T010512Z
UID:482087-1738090800-1738105200@www.feedbackmusik.net
SUMMARY:Stick To Your Guns\, Body Snatchers\, Magnitude et No Cure en concert à La Rayonne à Lyon-Villeurbanne le mardi 28 janvier 2025
DESCRIPTION:  \n \nMediatone et Sounds Like Hell présentent : 𝗦𝗧𝗜𝗖𝗞 𝗧𝗢 𝗬𝗢𝗨𝗥 𝗚𝗨𝗡𝗦 en concert à La Rayonne le mardi 28 janvier 2025 :\n\n𝗦𝗧𝗜𝗖𝗞 𝗧𝗢 𝗬𝗢𝗨𝗥 𝗚𝗨𝗡𝗦𝗨𝗦𝗔 – 𝗣𝘂𝗻𝗸 𝗛𝗮𝗿𝗱𝗰𝗼𝗿𝗲\nLe groupe hardcore puissant d’Orange County\, 𝗦𝗧𝗜𝗖𝗞 𝗧𝗢 𝗬𝗢𝗨𝗥 𝗚𝗨𝗡𝗦\, a sorti son sixième album\, « True View »\, sur END HITS RECORDS (EU) le 13 octobre 2017.\nSuite à leur EP révolutionnaire de 2016\, « Better Ash Than Dust »\, il est publié en édition limitée CD+DVD / Vinyle+DVD.\nDepuis leurs débuts il y a plus de vingt et un an\, STICK TO YOUR GUNS est devenu l’un des groupes les plus acharnés de la scène hardcore mondiale.\nMélangeant un hardcore moderne et puissant avec des refrains incroyablement accrocheurs\, ils ont assuré les premières parties de groupes tels que TERROR\, ARCHITECTS et PARKWAY DRIVE\n www.youtube.com/channel/UCdnnDkZKqh6MuRjIBmFHj0A www.instagram.com/stygoc www.facebook.com/STYGoc\n\n▬▬ 𝗜𝗡𝗙𝗢𝗦 𝗣𝗥𝗔𝗧𝗜𝗤𝗨𝗘𝗦 ▬▬\nMardi 28 janvier 202519h (Ouverture des portes à 18h)La Rayonne – 7 Rue Henri Legay\, 69100 Villeurbannehttps://mediatone.net/evenements/stick-to-your-guns/\n\nBILLETTERIE :\n𝗠𝗜𝗦𝗘 𝗘𝗡 𝗩𝗘𝗡𝗧𝗘 𝗟𝗘 𝗩𝗘𝗡𝗗𝗥𝗘𝗗𝗜 𝟭𝟮 𝗝𝗨𝗜𝗟𝗟𝗘𝗧 – 𝟭𝟭𝗛\n𝗧𝗔𝗥𝗜𝗙 𝗥𝗘𝗗𝗨𝗜𝗧 : 22€* (demandeurs d’emploi\, bénéficiaires du RSA\, – 18 ans sur présentation d’un justificatif)𝗧𝗔𝗥𝗜𝗙 𝗣𝗥𝗘𝗩𝗘𝗡𝗧𝗘 : 25€*𝗧𝗔𝗥𝗜𝗙 𝗚𝗨𝗜𝗖𝗛𝗘𝗧 : 28€*+ frais de loc.
URL:https://www.feedbackmusik.net/event/stick-to-your-guns-body-snatchers-magnitude-et-no-cure-en-concert-a-la-rayonne-a-lyon-villeurbanne-le-mardi-28-janvier-2025/
LOCATION:La Rayonne\, 7 rue Henri Legay\, Villeurbanne\, Rhône\, 69100\, France
CATEGORIES:Concerts
ATTACH;FMTTYPE=image/jpeg:https://www.feedbackmusik.net/wp-content/uploads/2024/07/Stick-your-guns-bandeau.jpg
END:VEVENT
BEGIN:VEVENT
DTSTART;TZID=Europe/Paris:20250129T170000
DTEND;TZID=Europe/Paris:20250129T230000
DTSTAMP:20260422T100953
CREATED:20240823T131036Z
LAST-MODIFIED:20240823T131036Z
UID:506158-1738170000-1738191600@www.feedbackmusik.net
SUMMARY:Paganfest MMXXV avec Alestorm - Ensiferum - Tyr - Heidevolk et Elvenking le mercredi 29 janvier 2025 au Transbordeur à Lyon-Villeurbanne
DESCRIPTION:Paganfest returns after 10 years with the strongest line-up (Alestorm\, Ensiferum\, Týr\, Heidevolk & Elvenking) and the most and biggest shows ever!\nCreated by RTN-Touring (Rock The Nation) between 2008-2015 with seven editions in Europe and two more in the USA\, Paganfest was the most successful festival tour of the pagan & folk metal scene. Since Paganfest was put on hiatus\, many fans and bands have been asking for the next edition.\nNow the time has come: Paganfest is coming back with a blast\, in legendary venues all over Europe and UK!\nPaganfest has been an important part of many bands’ history – it helped to grow many of your favourite bands to headliner status over the years. Five of these bands have now teamed up to raise the Paganfest flag again\, so let’s drink from a horn (not from a can)!\n\nTickets and more information at www.paganfest.live/ and https://www.facebook.com/Paganfest/\n\nAlestorm:https://www.alestorm.net/https://www.instagram.com/alestormofficialhttps://www.facebook.com/alestormband\n\nEnsiferum:https://ensiferum.com/https://www.instagram.com/ensiferummetal/https://www.facebook.com/Ensiferum\n\nTýr:https://tyr.fo/https://www.instagram.com/tyr_officialhttps://www.facebook.com/tyrband\n\nHeidevolk:https://www.heidevolk.comhttps://www.instagram.com/heidevolk_officialhttps://www.facebook.com/heidevolkofficial\n\nElvenking:https://www.elvenking.net/https://www.instagram.com/elvenking.official/http://www.facebook.com/elvenking.official
URL:https://www.feedbackmusik.net/event/paganfest-mmxxv-avec-alestorm-ensiferum-tyr-heidevolk-et-elvenking-le-mercredi-29-janvier-2025-au-transbordeur-a-lyon-villeurbanne/
LOCATION:Le Transbordeur\, 3\, boulevard Stalingrad \, Villeurbanne\, 69100 \, France
CATEGORIES:Concerts
ATTACH;FMTTYPE=image/jpeg:https://www.feedbackmusik.net/wp-content/uploads/2024/08/Paganfest-bandeau.jpg
END:VEVENT
BEGIN:VEVENT
DTSTART;TZID=Europe/Paris:20250131T190000
DTEND;TZID=Europe/Paris:20250131T230000
DTSTAMP:20260422T100953
CREATED:20240828T142802Z
LAST-MODIFIED:20240828T142802Z
UID:511228-1738350000-1738364400@www.feedbackmusik.net
SUMMARY:The Night Flight Orchestra - Moon Over Europe Tour 2025 - En concert au Ô Totem Live à Lyon-Rillieux le vendredi 31 janvier 2025
DESCRIPTION:Sounds Like Hell Productions\, en accord avec Garmonbozia\, présente : \nAprès avoir enflammé les scènes de plusieurs festivals européens\, THE NIGHT FLIGHT ORCHESTRA sera enfin retour à Lyon\, vendredi 31 janvier au Ô Totem Live ! Le groupe de Hard Rock / Classic Rock vous promet une virée intergalactique au son de ses hits\, mais aussi de nouvelles pépites.\nBouclez vos ceintures et embarquez à bord du vol de nuit le plus bruyant qui soit !\n\nProchainement\, annonce de la 1ère partie !!\n——————————————————————–\n Mise en vente des places : vendredi 30 août à partir de 10h00Tarifs : Normal : 28\,20€ – Tarif étudiant / – de 18 ans / Club SLH : 26\,53€ – sur place : 29\,50€Infos et billets : https://slhproductions.fr/agenda/thenightflightorchestra\nHoraires : ouverture des portes : 19h00\n——————————————————————–INFOS PRATIQUESÔ Totem Live9bis avenue du Général Leclerc69140 Rillieux-la-Pape\nPas de vestiaireBilletterie et bar : les paiements en CB sont acceptés. La vente d’alcool au -18 ans est interdite.Attention : les mineurs de -16 ans doivent être accompagnés d’un majeur.\n\nACCÈSEn transports en commun : Bus C5 depuis Cordeliers\, arrêt MJC / CCN ou C2 depuis la Gare Part-Dieu\, arrêt George SandEn voiture : Depuis Rocade Est/A46 sortie 4  »Caluire/Rillieux ». Places de parking gratuites à proximité.\nEn savoir plus : https://ototemlive.com\n———————————————————————–\n► THE NIGHT FLIGHT ORCHESTRA – Hard-Rock / Classic Rock – Suède\nFormé en 2007 par Björn Strid et David Andersson lors d’une tournée avec leur groupe SOILWORK\, THE NIGHT FLIGHT ORCHESTRA s’est rapidement étoffé avec l’arrivée de Sharlee D’Angelo (ARCH ENEMY) et Jonas Källsbäck (MEAN STREAK). Aujourd’hui\, le groupe compte également Sebastian Forslund\, John Manhattan Lönmyr\, Anna Brygård et Åsa Lundman dans ses rangs.\nInspiré par des géants tels que TOTO\, FOREIGNER\, JOURNEY et BOSTON\, TNFO propose un Classic Rock puissant qui nous transporte dans leur univers intergalactique. Avec des tubes comme « Domino »\, « Lovers In The Rain »\, « West Ruth Ave »\, « Divinyls »\, « This Time » ou “White Jeans”\, le groupe offre une palette d’ambiances et d’émotions variées dans chacun de ses albums. Du Hard-Rock pur aux touches Pop\, en passant par des épopées progressives\, des chansons disco\, et des ballades à la fois douces et captivantes\, THE NIGHT FLIGHT ORCHESTRA a développé une signature musicale unique.\nEn avril 2023\, TNFO a sorti le single “The Sensation”\, un hommage à leur guitariste David Andersson (également membre de SOILWORK)\, décédé en septembre 2022.\nDéterminé à ouvrir un nouveau chapitre de sa carrière\, le groupe a récemment signé chez Napalm Records et prépare la sortie d’un nouvel album !\n\n\nSite Internet : thenightflightorchestra.comFacebook : www.facebook.com/thenightflightorchestraofficialInstagram : www.instagram.com/nightflightorchestra”The Sensation” : www.youtube.com/watch?v=72EeTZ19Osw\n\n—————————————————————————————–Événement accessible aux mineurs de moins de 16 ans accompagnés de leur tuteur légal.——–Sounds Like Hell Productions\ncontact@slhproductions.fr www.facebook.com/slhproductions
URL:https://www.feedbackmusik.net/event/the-night-flight-orchestra-moon-over-europe-tour-2025-en-concert-au-o-totem-live-a-lyon-rillieux-le-vendredi-31-janvier-2025/
LOCATION:Ô Totem Live\, 9 bis Avenue Général Leclerc\, Rillieux-la-Pape\, Rhône\, 69140\, France
CATEGORIES:Concerts
ATTACH;FMTTYPE=image/jpeg:https://www.feedbackmusik.net/wp-content/uploads/2024/08/Night-Flight-Bandeau.jpg
END:VEVENT
END:VCALENDAR