BEGIN:VCALENDAR
VERSION:2.0
PRODID:-//FeedBack Music - ECPv6.11.2.1//NONSGML v1.0//EN
CALSCALE:GREGORIAN
METHOD:PUBLISH
X-WR-CALNAME:FeedBack Music
X-ORIGINAL-URL:https://www.feedbackmusik.net
X-WR-CALDESC:Évènements pour FeedBack Music
REFRESH-INTERVAL;VALUE=DURATION:PT1H
X-Robots-Tag:noindex
X-PUBLISHED-TTL:PT1H
BEGIN:VTIMEZONE
TZID:Europe/Paris
BEGIN:DAYLIGHT
TZOFFSETFROM:+0100
TZOFFSETTO:+0200
TZNAME:CEST
DTSTART:20250330T010000
END:DAYLIGHT
BEGIN:STANDARD
TZOFFSETFROM:+0200
TZOFFSETTO:+0100
TZNAME:CET
DTSTART:20251026T010000
END:STANDARD
END:VTIMEZONE
BEGIN:VEVENT
DTSTART;TZID=Europe/Paris:20250723T190000
DTEND;TZID=Europe/Paris:20250723T230000
DTSTAMP:20260422T005831
CREATED:20250414T162436Z
LAST-MODIFIED:20250414T162436Z
UID:671271-1753297200-1753311600@www.feedbackmusik.net
SUMMARY:Death Invasion Europe Tour 2025 with Malevolent Creation - Massacre - Deathbringer and Invictus en concert au Rock'n Eat à Lyon le mercredi 23 juillet 2025
DESCRIPTION:Sounds Like Hell Productions\, en accord avec Black Keys Productions\, présente :\nQue tous les fans de Death Metal old school se réjouissent ! Sounds Like Hell Productions vous propose une soirée 100 % composée de groupes légendaires prêts à enflammer la scène du Rock’n’Eat le mercredi 23 juillet prochain. MALEVOLENT CREATION assurera la tête d’affiche\, et pour agrémenter ce beau plateau\, les excellents MASSACRE\, DEATHBRINGER et INVICTUS se chargeront de chauffer la salle !\nHeadbang et Circle Pit au programme !! Prévoyez vos serviettes vous risquez de transpirer !! \n——————————————————————–\nBILLETTERIE : https://slhproductions.fr/agenda/malevolentcreation/https://www.rockneat.comTarifs : Normal : 24.20€ – Etudiant / Club : 22.50€ – sur place : 25.50€Horaires : ouverture des portes : 19h00 (à confirmer)\n\nACCES :\nBus 2\, 19\, 31\, 45 et C14 > arrêt Pont Koënig R.D.Métro D arrêt ValmyParkings en faceStation Vélo’V\n\n► MALEVOLENT CREATION – Death Metal old school – Floride\, USAMALEVOLENT CREATION débute sa carrière en 1987 à Buffalo\, New York\, où il enregistre et distribue sa première démo. À la recherche d’une scène musicale plus dynamique\, le groupe part en Floride\, où il produit sa deuxième démo avec un pressage à 1000 exemplaires. Enfin\, une troisième démo enregistrée l’année suivante par Scott Burns chez Morris Sound a permis à MALEVOLENT CREATION de signer un contrat avec Roadrunner et d’enregistrer son premier album intitulé The Ten Commandments\, considéré par beaucoup comme l’un des meilleurs premiers albums de Death Metal.Le processus d’enregistrement des albums suivants\, tels que Retribution et Stillborn\, a été marqué par des changements de line-up\, le début d’un phénomène courant depuis devenu la marque de fabrique de MALEVOLENT CREATION. Comme le résume Phil Fasciana\, le cerveau du groupe : « Si tu es trop lent\, tu dois partir. » Ne laissant jamais les musiciens affecter négativement la puissance et le talent de l’ensemble\, ces changements n’ont fait qu’ajouter du mystère et de l’intérêt pour les fans quant à la suite de la carrière du groupe. Continuant à mener ses batailles martiales de plus en plus fort à chaque sortie\, MALEVOLENT CREATION\, étiqueté comme « le Mike Tyson du Death Metal »\, n’a jamais déçu personne avec ses nouveaux ajouts ou remplacements.Site web : https://www.flowcode.com/page/malevolentcreationofficialFacebook : https://www.facebook.com/malevolentcreation“Release The Soul“ :https://www.youtube.com/watch?v=w4PIwx1lZSE\n\n► MASSACRE – Death Metal old school – Floride\, USALes pionniers du Death Metal également originaires de Floride\, MASSACRE\, renommé ainsi en l’honneur de leur album culte From Beyond (1991)\, poursuivent leur assaut old school Death Metal en 2025\, perpétuant ainsi leur héritage.Fondé en 1984\, MASSACRE est d’abord apparu comme un groupe de Heavy / Power Metal avant d’évoluer vers le Death Metal avec l’arrivée d’Allen West et de Kam Lee\, ce dernier étant crédité comme l’inventeur du Death Growl\, introduit pour la première fois dans une démo de 1986.Au fil des ans\, le groupe a connu de nombreux changements de line-up et des périodes de séparation. Initialement formé par d’anciens membres de Mantas (précurseur de Death) et de Death\, MASSACRE a signé un retour en force en 2021 avec la sortie de leur album studio Resurgence.En novembre 2024\, MASSACRE présente son cinquième album studio\, NECROLUTION\, via Agonia Records\, affirmant ainsi son engagement à perpétuer son Death Metal old school tout en proposant du nouveau matériel.À l’aube de 2025\, MASSACRE s’apprête à livrer un mélange de classiques intemporels et de morceaux issus de l’ère Resurgence\, couronné par une tournée massive en préparation pour défendre ce nouvel album.Site web / Bandcamp : https://massacre3.bandcamp.com/album/mermaid-in-a-manholeFacebook : https://www.facebook.com/MassacreBandUSAInstagram : https://www.instagram.com/massacre_band_official“Mermaid In A Manhole“ :https://www.youtube.com/watch?v=PFDvXazFHMw\n\n► DEATHBRINGER – Death progressif – BiélorussieFormé en 2002 en Biélorussie\, DEATHBRINGER s’impose rapidement comme une référence du Death Metal progressif et technique\, porté par l’influence de groupes légendaires. Avec des albums acclamés tels que Homo Divisus\, le groupe partage la scène aux côtés de titans du Metal extrême comme Vader\, Behemoth\, Marduk et Hate\, repoussant sans cesse les limites du genre.Après des années de perfectionnement et de tournées\, DEATHBRINGER poursuit son ascension avec un son puissant\, complexe et implacable.Site web / Bandcamp : https://deathbringerofficial.bandcamp.com/track/per-aspera-2Facebook : https://www.facebook.com/deathbringerofficialInstagram : https://www.instagram.com/deathbringer_official“Per Aspera“ :https://www.youtube.com/watch?v=7GdZCcrnyY4\n\n► INVICTUS – Death Metal – JaponDepuis ses débuts en 2004\, INVICTUS a rapidement su se démarquer sur la scène Death Metal internationale grâce à son style brutal et technique. Avec des influences allant des pionniers du genre aux sonorités plus modernes\, le groupe a su créer un son unique\, alliant puissance\, vitesse et une maîtrise technique impressionnante.Après plusieurs sorties remarquées et des tournées à travers le monde\, Invictus continue d’imposer son nom parmi les ténors du Death Metal\, offrant des performances scéniques intenses et une musique qui ne laisse personne indifférent.Site web / Bandcamp : https://invictus3.bandcamp.com/album/togakushi-ritual-demoFacebook : https://www.facebook.com/InvictusDeathMetal“Sinkhole Of Ghouls“ :https://www.youtube.com/watch?v=qPLfXiB-Wkc\n——————————————————————–Sounds Like Hell Productions – organisateur de concerts à Lyonhttps://slhproductions.fr\n 
URL:https://www.feedbackmusik.net/event/death-invasion-europe-tour-2025-with-malevolent-creation-massacre-deathbringer-and-invictus-en-concert-au-rockn-eat-a-lyon-le-mercredi-23-juillet-2025/
LOCATION:Rock N Eat Live\, 32 Quai Arloing\, Lyon\, Rhone\, 69009\, France
CATEGORIES:Concerts
ATTACH;FMTTYPE=image/jpeg:https://www.feedbackmusik.net/wp-content/uploads/2025/04/Death-Invasion-Bandeau.jpg
END:VEVENT
BEGIN:VEVENT
DTSTART;TZID=Europe/Paris:20250731T190000
DTEND;TZID=Europe/Paris:20250731T230000
DTSTAMP:20260422T005831
CREATED:20250425T183317Z
LAST-MODIFIED:20250425T183317Z
UID:677582-1753988400-1754002800@www.feedbackmusik.net
SUMMARY:Crystal Lake - Heriot + Guest en concert au Warmaudio (Lyon-Decines) le jeudi 31 juillet 2025
DESCRIPTION:Sounds Like Hell Productions\, en accord avec Veryshow\, présente :\n\nTout droit venu de Tokyo au Japon\, CRYSTAL LAKE prépare son grand retour en terres lyonnaises ! Après plusieurs changements de line up\, le groupe revient plus fort que jamais pour nous présenter ses derniers singles. À l’occasion\, ce sont les britanniques HERIOT qui se chargeront de chauffer les planches. Vous êtes attendus nombreux  le 31 juillet au Warmaudio\, prêt à en découdre dans le Pit !\nLes murs du Warmaudio vont une nouvelle fois trembler ! Saga furigana\, attention les secousses !!\n\nMise en vente des billets ce lundi 28 avril à 11h !\n\n\n——————————————————————–\nBILLETERIE :\nhttps://slhproductions.fr/agenda/crystallake/\nhttps://warmaudio.fr\nTarifs : Normal : 24.50€ – Réduit : 22.49€ – sur place : 26€\n\nACCES : \nAccès en transports en commun :Tram T3 ou Metro A – Arrêt Laurent Bonnevay puis Bus 67 – Direction Meyzieu Arrêt Décines Wilson\nParking / Pas de VestiaireCB acceptée au Bar / Pas de CB aux entréesFacebook Warmaudio : https://www.facebook.com/warmaudio.decines\nSite Officiel Warmaudio : https://warmaudio.fr/\n\nHoraires : ouverture des portes : 19h00 (à confirmer)\n\n\n► CRYSTAL LAKE – Metalcore – Tokyo\, Japon\n​CRYSTAL LAKE est un groupe japonais de Metalcore formé en 2002 à Tokyo. Son premier album\, Dimension\, sort en 2006\, suivi de Into the Great Beyond en 2010. En 2015\, ils signent avec Artery Recordings et JPU Records pour la sortie de The Sign\, puis avec SharpTone Records pour Helix en 2018\, qui marque une belle percée internationale. Le groupe se produit à travers le monde entier\, notamment en Amérique du Nord avec August Burns Red et en Europe lors du Never Say Die Tour en 2019.\nLe line-up fait l’objet de plusieurs changements. Le chanteur fondateur Kentaro Nishimura quitte le groupe en 2011\, remplacé par Ryo Kinoshita en 2012. En 2020\, le guitariste rythmique Shinya Hori part pour des raisons personnelles. En 2022\, Kinoshita se retire\, et c’est John Robert Centorrino qui prend le relais en 2023. Le groupe intègre également Gaku Taura à la batterie\, Mitsuru à la basse et Hisatsugu « TJ » Taji à la guitare rythmique.\nCRYSTAL LAKE continue d’innover avec les singles « Watch Me Burn »\, « Curse » et « Rebirth »\, tout en revisitant le passé avec le best of The Voyages en 2020. Le style du groupe\, mêlant Metalcore\, Deathcore\, Nu-Metal et éléments progressifs\, reste influent sur la scène alternative internationale.\nSite web : http://crystallake.jp/\nFacebook : https://www.facebook.com/crystallake777\nInstagram : https://www.instagram.com/CrystalLake777\n“BlüdGod feat. Taylor Barber“ :\nhttps://www.youtube.com/watch?v=rk8vpbU3gVg\n\n\n► HERIOT – Metalcore – Swindon\, Royaume-Uni\n​Formé en 2014 à Swindon au Royaume-Uni\, HERIOT est un groupe britannique de metalcore fondé par Erhan Alman (guitare)\, Jake Packer (basse / chant) et Julian Gage (batterie). Après une pause due au départ de Packer pour ses études\, le groupe renaît en 2019 avec l’arrivée de Debbie Gough (guitare / chant)\, marquant un tournant stylistique vers un son plus expérimental. L’EP Profound Morality (2022) les propulse sur le devant de la scène underground britannique\, grâce à une fusion audacieuse de Metalcore\, Sludge\, Industriel et Post-Metal. HERIOT se produit alors dans des festivals majeurs comme le 2000Trees\, le Bloodstock et le Download\, et assurent les premières parties de groupes tels que Rolo Tomassi et Zeal & Ardor.\nEn 2023\, HERIOT signe avec Century Media Records et amorce une nouvelle ère avec le single « Demure ». Le premier album du groupe\, Devoured by the Mouth of Hell\, sort en septembre 2024\, co-produit par Josh Middleton (Sylosis\, ex-Architects) et Will Putney (Fit for an Autopsy). Salué pour son intensité et sa production soignée\, il mène HERIOT dans des festivals européens majeurs (Rock am Ring\, Hellfest et Resurrection Fest)\, et aux côtés de Sylosis et Fit For An Autopsy en tournée européenne fin 2024.\nEn 2025\, HERIOT poursuit son ascension avec une tournée britannique en tête d’affiche\, soutenu par Grove Street et False Reality. Le groupe est également programmé au 2000Trees Festival en juillet et au Bloodstock Open Air en août. Avec une identité sonore unique et une présence scénique percutante\, HERIOT s’impose comme une figure montante du Metal alternatif britannique.\nSite web : https://www.heriotmetal.com/\nFacebook : https://www.facebook.com/heriotmetal\nInstagram : https://www.instagram.com/heriotmetal\n“Opaline“ :\nhttps://www.youtube.com/watch?v=oYCWVNOtp1E\n\n\n——————————————————————–\nSounds Like Hell Productions – organisateur de concerts à Lyon\nhttps://slhproductions.fr\n 
URL:https://www.feedbackmusik.net/event/crystal-lake-heriot-guest-en-concert-au-warmaudio-lyon-decines-le-jeudi-31-juillet-2025/
LOCATION:Warmaudio\, 29 rue Wilson\, Décines\, 69150
CATEGORIES:Concerts
ATTACH;FMTTYPE=image/jpeg:https://www.feedbackmusik.net/wp-content/uploads/2025/04/Castel-Lake-Bandeau.jpg
END:VEVENT
END:VCALENDAR